BEGIN:VCALENDAR
VERSION:2.0
PRODID:-//Senior Solutions - ECPv6.15.20//NONSGML v1.0//EN
CALSCALE:GREGORIAN
METHOD:PUBLISH
X-ORIGINAL-URL:https://www.seniorsolutionsvt.org
X-WR-CALDESC:Events for Senior Solutions
REFRESH-INTERVAL;VALUE=DURATION:PT1H
X-Robots-Tag:noindex
X-PUBLISHED-TTL:PT1H
BEGIN:VTIMEZONE
TZID:America/New_York
BEGIN:DAYLIGHT
TZOFFSETFROM:-0500
TZOFFSETTO:-0400
TZNAME:EDT
DTSTART:20260308T070000
END:DAYLIGHT
BEGIN:STANDARD
TZOFFSETFROM:-0400
TZOFFSETTO:-0500
TZNAME:EST
DTSTART:20261101T060000
END:STANDARD
BEGIN:DAYLIGHT
TZOFFSETFROM:-0500
TZOFFSETTO:-0400
TZNAME:EDT
DTSTART:20270314T070000
END:DAYLIGHT
BEGIN:STANDARD
TZOFFSETFROM:-0400
TZOFFSETTO:-0500
TZNAME:EST
DTSTART:20271107T060000
END:STANDARD
BEGIN:DAYLIGHT
TZOFFSETFROM:-0500
TZOFFSETTO:-0400
TZNAME:EDT
DTSTART:20280312T070000
END:DAYLIGHT
BEGIN:STANDARD
TZOFFSETFROM:-0400
TZOFFSETTO:-0500
TZNAME:EST
DTSTART:20281105T060000
END:STANDARD
BEGIN:DAYLIGHT
TZOFFSETFROM:-0500
TZOFFSETTO:-0400
TZNAME:EDT
DTSTART:20290311T070000
END:DAYLIGHT
BEGIN:STANDARD
TZOFFSETFROM:-0400
TZOFFSETTO:-0500
TZNAME:EST
DTSTART:20291104T060000
END:STANDARD
BEGIN:DAYLIGHT
TZOFFSETFROM:-0500
TZOFFSETTO:-0400
TZNAME:EDT
DTSTART:20300310T070000
END:DAYLIGHT
BEGIN:STANDARD
TZOFFSETFROM:-0400
TZOFFSETTO:-0500
TZNAME:EST
DTSTART:20301103T060000
END:STANDARD
END:VTIMEZONE
BEGIN:VEVENT
DTSTART;TZID=America/New_York:20270423T120000
DTEND;TZID=America/New_York:20270423T140000
DTSTAMP:20260421T173222
CREATED:20250401T151208Z
LAST-MODIFIED:20251021T152108Z
UID:10008860-1808481600-1808488800@www.seniorsolutionsvt.org
SUMMARY:Putney Food Shelf Outreach
DESCRIPTION:
URL:https://www.seniorsolutionsvt.org/event/putney-food-shelf-outreach/2027-04-23/
LOCATION:Putney Food Shelf\, 10 Christian Square\, Putney\, VT\, 05346\, United States
CATEGORIES:Outreach Sites
END:VEVENT
BEGIN:VEVENT
DTSTART;TZID=America/New_York:20270528T120000
DTEND;TZID=America/New_York:20270528T140000
DTSTAMP:20260421T173222
CREATED:20250401T151208Z
LAST-MODIFIED:20251021T152108Z
UID:10008861-1811505600-1811512800@www.seniorsolutionsvt.org
SUMMARY:Putney Food Shelf Outreach
DESCRIPTION:
URL:https://www.seniorsolutionsvt.org/event/putney-food-shelf-outreach/2027-05-28/
LOCATION:Putney Food Shelf\, 10 Christian Square\, Putney\, VT\, 05346\, United States
CATEGORIES:Outreach Sites
END:VEVENT
BEGIN:VEVENT
DTSTART;TZID=America/New_York:20270625T120000
DTEND;TZID=America/New_York:20270625T140000
DTSTAMP:20260421T173222
CREATED:20250401T151208Z
LAST-MODIFIED:20251021T152108Z
UID:10008862-1813924800-1813932000@www.seniorsolutionsvt.org
SUMMARY:Putney Food Shelf Outreach
DESCRIPTION:
URL:https://www.seniorsolutionsvt.org/event/putney-food-shelf-outreach/2027-06-25/
LOCATION:Putney Food Shelf\, 10 Christian Square\, Putney\, VT\, 05346\, United States
CATEGORIES:Outreach Sites
END:VEVENT
BEGIN:VEVENT
DTSTART;TZID=America/New_York:20270723T120000
DTEND;TZID=America/New_York:20270723T140000
DTSTAMP:20260421T173222
CREATED:20250401T151208Z
LAST-MODIFIED:20251021T152108Z
UID:10008863-1816344000-1816351200@www.seniorsolutionsvt.org
SUMMARY:Putney Food Shelf Outreach
DESCRIPTION:
URL:https://www.seniorsolutionsvt.org/event/putney-food-shelf-outreach/2027-07-23/
LOCATION:Putney Food Shelf\, 10 Christian Square\, Putney\, VT\, 05346\, United States
CATEGORIES:Outreach Sites
END:VEVENT
BEGIN:VEVENT
DTSTART;TZID=America/New_York:20270827T120000
DTEND;TZID=America/New_York:20270827T140000
DTSTAMP:20260421T173222
CREATED:20250401T151208Z
LAST-MODIFIED:20251021T152108Z
UID:10008864-1819368000-1819375200@www.seniorsolutionsvt.org
SUMMARY:Putney Food Shelf Outreach
DESCRIPTION:
URL:https://www.seniorsolutionsvt.org/event/putney-food-shelf-outreach/2027-08-27/
LOCATION:Putney Food Shelf\, 10 Christian Square\, Putney\, VT\, 05346\, United States
CATEGORIES:Outreach Sites
END:VEVENT
BEGIN:VEVENT
DTSTART;TZID=America/New_York:20270924T120000
DTEND;TZID=America/New_York:20270924T140000
DTSTAMP:20260421T173222
CREATED:20250401T151208Z
LAST-MODIFIED:20251021T152108Z
UID:10008865-1821787200-1821794400@www.seniorsolutionsvt.org
SUMMARY:Putney Food Shelf Outreach
DESCRIPTION:
URL:https://www.seniorsolutionsvt.org/event/putney-food-shelf-outreach/2027-09-24/
LOCATION:Putney Food Shelf\, 10 Christian Square\, Putney\, VT\, 05346\, United States
CATEGORIES:Outreach Sites
END:VEVENT
BEGIN:VEVENT
DTSTART;TZID=America/New_York:20271022T120000
DTEND;TZID=America/New_York:20271022T140000
DTSTAMP:20260421T173222
CREATED:20250401T151208Z
LAST-MODIFIED:20251021T152108Z
UID:10008866-1824206400-1824213600@www.seniorsolutionsvt.org
SUMMARY:Putney Food Shelf Outreach
DESCRIPTION:
URL:https://www.seniorsolutionsvt.org/event/putney-food-shelf-outreach/2027-10-22/
LOCATION:Putney Food Shelf\, 10 Christian Square\, Putney\, VT\, 05346\, United States
CATEGORIES:Outreach Sites
END:VEVENT
BEGIN:VEVENT
DTSTART;TZID=America/New_York:20271126T120000
DTEND;TZID=America/New_York:20271126T140000
DTSTAMP:20260421T173222
CREATED:20250401T151208Z
LAST-MODIFIED:20251021T152108Z
UID:10008867-1827230400-1827237600@www.seniorsolutionsvt.org
SUMMARY:Putney Food Shelf Outreach
DESCRIPTION:
URL:https://www.seniorsolutionsvt.org/event/putney-food-shelf-outreach/2027-11-26/
LOCATION:Putney Food Shelf\, 10 Christian Square\, Putney\, VT\, 05346\, United States
CATEGORIES:Outreach Sites
END:VEVENT
BEGIN:VEVENT
DTSTART;TZID=America/New_York:20271224T120000
DTEND;TZID=America/New_York:20271224T140000
DTSTAMP:20260421T173222
CREATED:20250401T151208Z
LAST-MODIFIED:20251021T152108Z
UID:10008868-1829649600-1829656800@www.seniorsolutionsvt.org
SUMMARY:Putney Food Shelf Outreach
DESCRIPTION:
URL:https://www.seniorsolutionsvt.org/event/putney-food-shelf-outreach/2027-12-24/
LOCATION:Putney Food Shelf\, 10 Christian Square\, Putney\, VT\, 05346\, United States
CATEGORIES:Outreach Sites
END:VEVENT
BEGIN:VEVENT
DTSTART;TZID=America/New_York:20280128T120000
DTEND;TZID=America/New_York:20280128T140000
DTSTAMP:20260421T173222
CREATED:20250401T151208Z
LAST-MODIFIED:20251021T152108Z
UID:10008869-1832673600-1832680800@www.seniorsolutionsvt.org
SUMMARY:Putney Food Shelf Outreach
DESCRIPTION:
URL:https://www.seniorsolutionsvt.org/event/putney-food-shelf-outreach/2028-01-28/
LOCATION:Putney Food Shelf\, 10 Christian Square\, Putney\, VT\, 05346\, United States
CATEGORIES:Outreach Sites
END:VEVENT
BEGIN:VEVENT
DTSTART;TZID=America/New_York:20280225T120000
DTEND;TZID=America/New_York:20280225T140000
DTSTAMP:20260421T173222
CREATED:20250401T151208Z
LAST-MODIFIED:20251021T152108Z
UID:10008870-1835092800-1835100000@www.seniorsolutionsvt.org
SUMMARY:Putney Food Shelf Outreach
DESCRIPTION:
URL:https://www.seniorsolutionsvt.org/event/putney-food-shelf-outreach/2028-02-25/
LOCATION:Putney Food Shelf\, 10 Christian Square\, Putney\, VT\, 05346\, United States
CATEGORIES:Outreach Sites
END:VEVENT
BEGIN:VEVENT
DTSTART;TZID=America/New_York:20280324T120000
DTEND;TZID=America/New_York:20280324T140000
DTSTAMP:20260421T173222
CREATED:20250401T151208Z
LAST-MODIFIED:20251021T152108Z
UID:10008871-1837512000-1837519200@www.seniorsolutionsvt.org
SUMMARY:Putney Food Shelf Outreach
DESCRIPTION:
URL:https://www.seniorsolutionsvt.org/event/putney-food-shelf-outreach/2028-03-24/
LOCATION:Putney Food Shelf\, 10 Christian Square\, Putney\, VT\, 05346\, United States
CATEGORIES:Outreach Sites
END:VEVENT
BEGIN:VEVENT
DTSTART;TZID=America/New_York:20280428T120000
DTEND;TZID=America/New_York:20280428T140000
DTSTAMP:20260421T173222
CREATED:20250401T151208Z
LAST-MODIFIED:20251021T152108Z
UID:10008872-1840536000-1840543200@www.seniorsolutionsvt.org
SUMMARY:Putney Food Shelf Outreach
DESCRIPTION:
URL:https://www.seniorsolutionsvt.org/event/putney-food-shelf-outreach/2028-04-28/
LOCATION:Putney Food Shelf\, 10 Christian Square\, Putney\, VT\, 05346\, United States
CATEGORIES:Outreach Sites
END:VEVENT
BEGIN:VEVENT
DTSTART;TZID=America/New_York:20280526T120000
DTEND;TZID=America/New_York:20280526T140000
DTSTAMP:20260421T173222
CREATED:20250401T151208Z
LAST-MODIFIED:20251021T152108Z
UID:10008873-1842955200-1842962400@www.seniorsolutionsvt.org
SUMMARY:Putney Food Shelf Outreach
DESCRIPTION:
URL:https://www.seniorsolutionsvt.org/event/putney-food-shelf-outreach/2028-05-26/
LOCATION:Putney Food Shelf\, 10 Christian Square\, Putney\, VT\, 05346\, United States
CATEGORIES:Outreach Sites
END:VEVENT
BEGIN:VEVENT
DTSTART;TZID=America/New_York:20280623T120000
DTEND;TZID=America/New_York:20280623T140000
DTSTAMP:20260421T173222
CREATED:20250401T151208Z
LAST-MODIFIED:20251021T152108Z
UID:10008874-1845374400-1845381600@www.seniorsolutionsvt.org
SUMMARY:Putney Food Shelf Outreach
DESCRIPTION:
URL:https://www.seniorsolutionsvt.org/event/putney-food-shelf-outreach/2028-06-23/
LOCATION:Putney Food Shelf\, 10 Christian Square\, Putney\, VT\, 05346\, United States
CATEGORIES:Outreach Sites
END:VEVENT
BEGIN:VEVENT
DTSTART;TZID=America/New_York:20280728T120000
DTEND;TZID=America/New_York:20280728T140000
DTSTAMP:20260421T173222
CREATED:20250401T151208Z
LAST-MODIFIED:20251021T152108Z
UID:10008875-1848398400-1848405600@www.seniorsolutionsvt.org
SUMMARY:Putney Food Shelf Outreach
DESCRIPTION:
URL:https://www.seniorsolutionsvt.org/event/putney-food-shelf-outreach/2028-07-28/
LOCATION:Putney Food Shelf\, 10 Christian Square\, Putney\, VT\, 05346\, United States
CATEGORIES:Outreach Sites
END:VEVENT
BEGIN:VEVENT
DTSTART;TZID=America/New_York:20280825T120000
DTEND;TZID=America/New_York:20280825T140000
DTSTAMP:20260421T173222
CREATED:20250401T151208Z
LAST-MODIFIED:20251021T152108Z
UID:10008876-1850817600-1850824800@www.seniorsolutionsvt.org
SUMMARY:Putney Food Shelf Outreach
DESCRIPTION:
URL:https://www.seniorsolutionsvt.org/event/putney-food-shelf-outreach/2028-08-25/
LOCATION:Putney Food Shelf\, 10 Christian Square\, Putney\, VT\, 05346\, United States
CATEGORIES:Outreach Sites
END:VEVENT
BEGIN:VEVENT
DTSTART;TZID=America/New_York:20280922T120000
DTEND;TZID=America/New_York:20280922T140000
DTSTAMP:20260421T173222
CREATED:20250401T151208Z
LAST-MODIFIED:20251021T152108Z
UID:10008877-1853236800-1853244000@www.seniorsolutionsvt.org
SUMMARY:Putney Food Shelf Outreach
DESCRIPTION:
URL:https://www.seniorsolutionsvt.org/event/putney-food-shelf-outreach/2028-09-22/
LOCATION:Putney Food Shelf\, 10 Christian Square\, Putney\, VT\, 05346\, United States
CATEGORIES:Outreach Sites
END:VEVENT
BEGIN:VEVENT
DTSTART;TZID=America/New_York:20281027T120000
DTEND;TZID=America/New_York:20281027T140000
DTSTAMP:20260421T173222
CREATED:20250401T151208Z
LAST-MODIFIED:20251021T152108Z
UID:10008878-1856260800-1856268000@www.seniorsolutionsvt.org
SUMMARY:Putney Food Shelf Outreach
DESCRIPTION:
URL:https://www.seniorsolutionsvt.org/event/putney-food-shelf-outreach/2028-10-27/
LOCATION:Putney Food Shelf\, 10 Christian Square\, Putney\, VT\, 05346\, United States
CATEGORIES:Outreach Sites
END:VEVENT
BEGIN:VEVENT
DTSTART;TZID=America/New_York:20281124T120000
DTEND;TZID=America/New_York:20281124T140000
DTSTAMP:20260421T173222
CREATED:20250401T151208Z
LAST-MODIFIED:20251021T152108Z
UID:10008879-1858680000-1858687200@www.seniorsolutionsvt.org
SUMMARY:Putney Food Shelf Outreach
DESCRIPTION:
URL:https://www.seniorsolutionsvt.org/event/putney-food-shelf-outreach/2028-11-24/
LOCATION:Putney Food Shelf\, 10 Christian Square\, Putney\, VT\, 05346\, United States
CATEGORIES:Outreach Sites
END:VEVENT
BEGIN:VEVENT
DTSTART;TZID=America/New_York:20281222T120000
DTEND;TZID=America/New_York:20281222T140000
DTSTAMP:20260421T173222
CREATED:20250401T151208Z
LAST-MODIFIED:20251021T152108Z
UID:10008880-1861099200-1861106400@www.seniorsolutionsvt.org
SUMMARY:Putney Food Shelf Outreach
DESCRIPTION:
URL:https://www.seniorsolutionsvt.org/event/putney-food-shelf-outreach/2028-12-22/
LOCATION:Putney Food Shelf\, 10 Christian Square\, Putney\, VT\, 05346\, United States
CATEGORIES:Outreach Sites
END:VEVENT
BEGIN:VEVENT
DTSTART;TZID=America/New_York:20290126T120000
DTEND;TZID=America/New_York:20290126T140000
DTSTAMP:20260421T173222
CREATED:20250401T151208Z
LAST-MODIFIED:20251021T152108Z
UID:10008881-1864123200-1864130400@www.seniorsolutionsvt.org
SUMMARY:Putney Food Shelf Outreach
DESCRIPTION:
URL:https://www.seniorsolutionsvt.org/event/putney-food-shelf-outreach/2029-01-26/
LOCATION:Putney Food Shelf\, 10 Christian Square\, Putney\, VT\, 05346\, United States
CATEGORIES:Outreach Sites
END:VEVENT
BEGIN:VEVENT
DTSTART;TZID=America/New_York:20290223T120000
DTEND;TZID=America/New_York:20290223T140000
DTSTAMP:20260421T173222
CREATED:20250401T151208Z
LAST-MODIFIED:20251021T152108Z
UID:10008882-1866542400-1866549600@www.seniorsolutionsvt.org
SUMMARY:Putney Food Shelf Outreach
DESCRIPTION:
URL:https://www.seniorsolutionsvt.org/event/putney-food-shelf-outreach/2029-02-23/
LOCATION:Putney Food Shelf\, 10 Christian Square\, Putney\, VT\, 05346\, United States
CATEGORIES:Outreach Sites
END:VEVENT
BEGIN:VEVENT
DTSTART;TZID=America/New_York:20290323T120000
DTEND;TZID=America/New_York:20290323T140000
DTSTAMP:20260421T173222
CREATED:20250401T151208Z
LAST-MODIFIED:20251021T152108Z
UID:10008883-1868961600-1868968800@www.seniorsolutionsvt.org
SUMMARY:Putney Food Shelf Outreach
DESCRIPTION:
URL:https://www.seniorsolutionsvt.org/event/putney-food-shelf-outreach/2029-03-23/
LOCATION:Putney Food Shelf\, 10 Christian Square\, Putney\, VT\, 05346\, United States
CATEGORIES:Outreach Sites
END:VEVENT
BEGIN:VEVENT
DTSTART;TZID=America/New_York:20290427T120000
DTEND;TZID=America/New_York:20290427T140000
DTSTAMP:20260421T173222
CREATED:20250401T151208Z
LAST-MODIFIED:20251021T152108Z
UID:10008884-1871985600-1871992800@www.seniorsolutionsvt.org
SUMMARY:Putney Food Shelf Outreach
DESCRIPTION:
URL:https://www.seniorsolutionsvt.org/event/putney-food-shelf-outreach/2029-04-27/
LOCATION:Putney Food Shelf\, 10 Christian Square\, Putney\, VT\, 05346\, United States
CATEGORIES:Outreach Sites
END:VEVENT
BEGIN:VEVENT
DTSTART;TZID=America/New_York:20290525T120000
DTEND;TZID=America/New_York:20290525T140000
DTSTAMP:20260421T173222
CREATED:20250401T151208Z
LAST-MODIFIED:20251021T152108Z
UID:10008885-1874404800-1874412000@www.seniorsolutionsvt.org
SUMMARY:Putney Food Shelf Outreach
DESCRIPTION:
URL:https://www.seniorsolutionsvt.org/event/putney-food-shelf-outreach/2029-05-25/
LOCATION:Putney Food Shelf\, 10 Christian Square\, Putney\, VT\, 05346\, United States
CATEGORIES:Outreach Sites
END:VEVENT
BEGIN:VEVENT
DTSTART;TZID=America/New_York:20290622T120000
DTEND;TZID=America/New_York:20290622T140000
DTSTAMP:20260421T173222
CREATED:20250401T151208Z
LAST-MODIFIED:20251021T152108Z
UID:10008886-1876824000-1876831200@www.seniorsolutionsvt.org
SUMMARY:Putney Food Shelf Outreach
DESCRIPTION:
URL:https://www.seniorsolutionsvt.org/event/putney-food-shelf-outreach/2029-06-22/
LOCATION:Putney Food Shelf\, 10 Christian Square\, Putney\, VT\, 05346\, United States
CATEGORIES:Outreach Sites
END:VEVENT
BEGIN:VEVENT
DTSTART;TZID=America/New_York:20290727T120000
DTEND;TZID=America/New_York:20290727T140000
DTSTAMP:20260421T173222
CREATED:20250401T151208Z
LAST-MODIFIED:20251021T152108Z
UID:10008887-1879848000-1879855200@www.seniorsolutionsvt.org
SUMMARY:Putney Food Shelf Outreach
DESCRIPTION:
URL:https://www.seniorsolutionsvt.org/event/putney-food-shelf-outreach/2029-07-27/
LOCATION:Putney Food Shelf\, 10 Christian Square\, Putney\, VT\, 05346\, United States
CATEGORIES:Outreach Sites
END:VEVENT
BEGIN:VEVENT
DTSTART;TZID=America/New_York:20290824T120000
DTEND;TZID=America/New_York:20290824T140000
DTSTAMP:20260421T173222
CREATED:20250401T151208Z
LAST-MODIFIED:20251021T152108Z
UID:10008888-1882267200-1882274400@www.seniorsolutionsvt.org
SUMMARY:Putney Food Shelf Outreach
DESCRIPTION:
URL:https://www.seniorsolutionsvt.org/event/putney-food-shelf-outreach/2029-08-24/
LOCATION:Putney Food Shelf\, 10 Christian Square\, Putney\, VT\, 05346\, United States
CATEGORIES:Outreach Sites
END:VEVENT
BEGIN:VEVENT
DTSTART;TZID=America/New_York:20290928T120000
DTEND;TZID=America/New_York:20290928T140000
DTSTAMP:20260421T173222
CREATED:20250401T151208Z
LAST-MODIFIED:20251021T152108Z
UID:10008889-1885291200-1885298400@www.seniorsolutionsvt.org
SUMMARY:Putney Food Shelf Outreach
DESCRIPTION:
URL:https://www.seniorsolutionsvt.org/event/putney-food-shelf-outreach/2029-09-28/
LOCATION:Putney Food Shelf\, 10 Christian Square\, Putney\, VT\, 05346\, United States
CATEGORIES:Outreach Sites
END:VEVENT
END:VCALENDAR