BEGIN:VCALENDAR
VERSION:2.0
PRODID:-//Senior Solutions - ECPv6.15.20//NONSGML v1.0//EN
CALSCALE:GREGORIAN
METHOD:PUBLISH
X-WR-CALNAME:Senior Solutions
X-ORIGINAL-URL:https://www.seniorsolutionsvt.org
X-WR-CALDESC:Events for Senior Solutions
REFRESH-INTERVAL;VALUE=DURATION:PT1H
X-Robots-Tag:noindex
X-PUBLISHED-TTL:PT1H
BEGIN:VTIMEZONE
TZID:America/New_York
BEGIN:DAYLIGHT
TZOFFSETFROM:-0500
TZOFFSETTO:-0400
TZNAME:EDT
DTSTART:20250309T070000
END:DAYLIGHT
BEGIN:STANDARD
TZOFFSETFROM:-0400
TZOFFSETTO:-0500
TZNAME:EST
DTSTART:20251102T060000
END:STANDARD
BEGIN:DAYLIGHT
TZOFFSETFROM:-0500
TZOFFSETTO:-0400
TZNAME:EDT
DTSTART:20260308T070000
END:DAYLIGHT
BEGIN:STANDARD
TZOFFSETFROM:-0400
TZOFFSETTO:-0500
TZNAME:EST
DTSTART:20261101T060000
END:STANDARD
BEGIN:DAYLIGHT
TZOFFSETFROM:-0500
TZOFFSETTO:-0400
TZNAME:EDT
DTSTART:20270314T070000
END:DAYLIGHT
BEGIN:STANDARD
TZOFFSETFROM:-0400
TZOFFSETTO:-0500
TZNAME:EST
DTSTART:20271107T060000
END:STANDARD
BEGIN:DAYLIGHT
TZOFFSETFROM:-0500
TZOFFSETTO:-0400
TZNAME:EDT
DTSTART:20280312T070000
END:DAYLIGHT
BEGIN:STANDARD
TZOFFSETFROM:-0400
TZOFFSETTO:-0500
TZNAME:EST
DTSTART:20281105T060000
END:STANDARD
BEGIN:DAYLIGHT
TZOFFSETFROM:-0500
TZOFFSETTO:-0400
TZNAME:EDT
DTSTART:20290311T070000
END:DAYLIGHT
BEGIN:STANDARD
TZOFFSETFROM:-0400
TZOFFSETTO:-0500
TZNAME:EST
DTSTART:20291104T060000
END:STANDARD
END:VTIMEZONE
BEGIN:VEVENT
DTSTART;TZID=America/New_York:20260521T120000
DTEND;TZID=America/New_York:20260521T130000
DTSTAMP:20260424T191432
CREATED:20260421T174112Z
LAST-MODIFIED:20260421T174112Z
UID:10010458-1779364800-1779368400@www.seniorsolutionsvt.org
SUMMARY:Bondville Community Meal
DESCRIPTION:
URL:https://www.seniorsolutionsvt.org/event/bondville-community-meal/2026-05-21/
LOCATION:Winhall Community Arts Center\, 3 River Road\, Bondville\, VT\, 05340\, United States
CATEGORIES:Community Meals
END:VEVENT
BEGIN:VEVENT
DTSTART;TZID=America/New_York:20260618T120000
DTEND;TZID=America/New_York:20260618T130000
DTSTAMP:20260424T191432
CREATED:20260421T174112Z
LAST-MODIFIED:20260421T174112Z
UID:10010459-1781784000-1781787600@www.seniorsolutionsvt.org
SUMMARY:Bondville Community Meal
DESCRIPTION:
URL:https://www.seniorsolutionsvt.org/event/bondville-community-meal/2026-06-18/
LOCATION:Winhall Community Arts Center\, 3 River Road\, Bondville\, VT\, 05340\, United States
CATEGORIES:Community Meals
END:VEVENT
BEGIN:VEVENT
DTSTART;TZID=America/New_York:20260716T120000
DTEND;TZID=America/New_York:20260716T130000
DTSTAMP:20260424T191432
CREATED:20260421T174112Z
LAST-MODIFIED:20260421T174112Z
UID:10010460-1784203200-1784206800@www.seniorsolutionsvt.org
SUMMARY:Bondville Community Meal
DESCRIPTION:
URL:https://www.seniorsolutionsvt.org/event/bondville-community-meal/2026-07-16/
LOCATION:Winhall Community Arts Center\, 3 River Road\, Bondville\, VT\, 05340\, United States
CATEGORIES:Community Meals
END:VEVENT
BEGIN:VEVENT
DTSTART;TZID=America/New_York:20260820T120000
DTEND;TZID=America/New_York:20260820T130000
DTSTAMP:20260424T191432
CREATED:20260421T174112Z
LAST-MODIFIED:20260421T174112Z
UID:10010461-1787227200-1787230800@www.seniorsolutionsvt.org
SUMMARY:Bondville Community Meal
DESCRIPTION:
URL:https://www.seniorsolutionsvt.org/event/bondville-community-meal/2026-08-20/
LOCATION:Winhall Community Arts Center\, 3 River Road\, Bondville\, VT\, 05340\, United States
CATEGORIES:Community Meals
END:VEVENT
BEGIN:VEVENT
DTSTART;TZID=America/New_York:20260917T120000
DTEND;TZID=America/New_York:20260917T130000
DTSTAMP:20260424T191432
CREATED:20260421T174112Z
LAST-MODIFIED:20260421T174112Z
UID:10010462-1789646400-1789650000@www.seniorsolutionsvt.org
SUMMARY:Bondville Community Meal
DESCRIPTION:
URL:https://www.seniorsolutionsvt.org/event/bondville-community-meal/2026-09-17/
LOCATION:Winhall Community Arts Center\, 3 River Road\, Bondville\, VT\, 05340\, United States
CATEGORIES:Community Meals
END:VEVENT
BEGIN:VEVENT
DTSTART;TZID=America/New_York:20261015T120000
DTEND;TZID=America/New_York:20261015T130000
DTSTAMP:20260424T191432
CREATED:20260421T174112Z
LAST-MODIFIED:20260421T174112Z
UID:10010463-1792065600-1792069200@www.seniorsolutionsvt.org
SUMMARY:Bondville Community Meal
DESCRIPTION:
URL:https://www.seniorsolutionsvt.org/event/bondville-community-meal/2026-10-15/
LOCATION:Winhall Community Arts Center\, 3 River Road\, Bondville\, VT\, 05340\, United States
CATEGORIES:Community Meals
END:VEVENT
BEGIN:VEVENT
DTSTART;TZID=America/New_York:20261119T120000
DTEND;TZID=America/New_York:20261119T130000
DTSTAMP:20260424T191432
CREATED:20260421T174112Z
LAST-MODIFIED:20260421T174112Z
UID:10010464-1795089600-1795093200@www.seniorsolutionsvt.org
SUMMARY:Bondville Community Meal
DESCRIPTION:
URL:https://www.seniorsolutionsvt.org/event/bondville-community-meal/2026-11-19/
LOCATION:Winhall Community Arts Center\, 3 River Road\, Bondville\, VT\, 05340\, United States
CATEGORIES:Community Meals
END:VEVENT
BEGIN:VEVENT
DTSTART;TZID=America/New_York:20261217T120000
DTEND;TZID=America/New_York:20261217T130000
DTSTAMP:20260424T191432
CREATED:20260421T174112Z
LAST-MODIFIED:20260421T174112Z
UID:10010465-1797508800-1797512400@www.seniorsolutionsvt.org
SUMMARY:Bondville Community Meal
DESCRIPTION:
URL:https://www.seniorsolutionsvt.org/event/bondville-community-meal/2026-12-17/
LOCATION:Winhall Community Arts Center\, 3 River Road\, Bondville\, VT\, 05340\, United States
CATEGORIES:Community Meals
END:VEVENT
BEGIN:VEVENT
DTSTART;TZID=America/New_York:20270121T120000
DTEND;TZID=America/New_York:20270121T130000
DTSTAMP:20260424T191432
CREATED:20260421T174112Z
LAST-MODIFIED:20260421T174112Z
UID:10010466-1800532800-1800536400@www.seniorsolutionsvt.org
SUMMARY:Bondville Community Meal
DESCRIPTION:
URL:https://www.seniorsolutionsvt.org/event/bondville-community-meal/2027-01-21/
LOCATION:Winhall Community Arts Center\, 3 River Road\, Bondville\, VT\, 05340\, United States
CATEGORIES:Community Meals
END:VEVENT
BEGIN:VEVENT
DTSTART;TZID=America/New_York:20270218T120000
DTEND;TZID=America/New_York:20270218T130000
DTSTAMP:20260424T191432
CREATED:20260421T174112Z
LAST-MODIFIED:20260421T174112Z
UID:10010467-1802952000-1802955600@www.seniorsolutionsvt.org
SUMMARY:Bondville Community Meal
DESCRIPTION:
URL:https://www.seniorsolutionsvt.org/event/bondville-community-meal/2027-02-18/
LOCATION:Winhall Community Arts Center\, 3 River Road\, Bondville\, VT\, 05340\, United States
CATEGORIES:Community Meals
END:VEVENT
BEGIN:VEVENT
DTSTART;TZID=America/New_York:20270318T120000
DTEND;TZID=America/New_York:20270318T130000
DTSTAMP:20260424T191432
CREATED:20260421T174112Z
LAST-MODIFIED:20260421T174112Z
UID:10010468-1805371200-1805374800@www.seniorsolutionsvt.org
SUMMARY:Bondville Community Meal
DESCRIPTION:
URL:https://www.seniorsolutionsvt.org/event/bondville-community-meal/2027-03-18/
LOCATION:Winhall Community Arts Center\, 3 River Road\, Bondville\, VT\, 05340\, United States
CATEGORIES:Community Meals
END:VEVENT
BEGIN:VEVENT
DTSTART;TZID=America/New_York:20270415T120000
DTEND;TZID=America/New_York:20270415T130000
DTSTAMP:20260424T191432
CREATED:20260421T174112Z
LAST-MODIFIED:20260421T174112Z
UID:10010469-1807790400-1807794000@www.seniorsolutionsvt.org
SUMMARY:Bondville Community Meal
DESCRIPTION:
URL:https://www.seniorsolutionsvt.org/event/bondville-community-meal/2027-04-15/
LOCATION:Winhall Community Arts Center\, 3 River Road\, Bondville\, VT\, 05340\, United States
CATEGORIES:Community Meals
END:VEVENT
BEGIN:VEVENT
DTSTART;TZID=America/New_York:20270520T120000
DTEND;TZID=America/New_York:20270520T130000
DTSTAMP:20260424T191432
CREATED:20260421T174112Z
LAST-MODIFIED:20260421T174112Z
UID:10010470-1810814400-1810818000@www.seniorsolutionsvt.org
SUMMARY:Bondville Community Meal
DESCRIPTION:
URL:https://www.seniorsolutionsvt.org/event/bondville-community-meal/2027-05-20/
LOCATION:Winhall Community Arts Center\, 3 River Road\, Bondville\, VT\, 05340\, United States
CATEGORIES:Community Meals
END:VEVENT
BEGIN:VEVENT
DTSTART;TZID=America/New_York:20270617T120000
DTEND;TZID=America/New_York:20270617T130000
DTSTAMP:20260424T191432
CREATED:20260421T174112Z
LAST-MODIFIED:20260421T174112Z
UID:10010471-1813233600-1813237200@www.seniorsolutionsvt.org
SUMMARY:Bondville Community Meal
DESCRIPTION:
URL:https://www.seniorsolutionsvt.org/event/bondville-community-meal/2027-06-17/
LOCATION:Winhall Community Arts Center\, 3 River Road\, Bondville\, VT\, 05340\, United States
CATEGORIES:Community Meals
END:VEVENT
BEGIN:VEVENT
DTSTART;TZID=America/New_York:20270715T120000
DTEND;TZID=America/New_York:20270715T130000
DTSTAMP:20260424T191432
CREATED:20260421T174112Z
LAST-MODIFIED:20260421T174112Z
UID:10010472-1815652800-1815656400@www.seniorsolutionsvt.org
SUMMARY:Bondville Community Meal
DESCRIPTION:
URL:https://www.seniorsolutionsvt.org/event/bondville-community-meal/2027-07-15/
LOCATION:Winhall Community Arts Center\, 3 River Road\, Bondville\, VT\, 05340\, United States
CATEGORIES:Community Meals
END:VEVENT
BEGIN:VEVENT
DTSTART;TZID=America/New_York:20270819T120000
DTEND;TZID=America/New_York:20270819T130000
DTSTAMP:20260424T191432
CREATED:20260421T174112Z
LAST-MODIFIED:20260421T174112Z
UID:10010473-1818676800-1818680400@www.seniorsolutionsvt.org
SUMMARY:Bondville Community Meal
DESCRIPTION:
URL:https://www.seniorsolutionsvt.org/event/bondville-community-meal/2027-08-19/
LOCATION:Winhall Community Arts Center\, 3 River Road\, Bondville\, VT\, 05340\, United States
CATEGORIES:Community Meals
END:VEVENT
BEGIN:VEVENT
DTSTART;TZID=America/New_York:20270916T120000
DTEND;TZID=America/New_York:20270916T130000
DTSTAMP:20260424T191432
CREATED:20260421T174112Z
LAST-MODIFIED:20260421T174112Z
UID:10010474-1821096000-1821099600@www.seniorsolutionsvt.org
SUMMARY:Bondville Community Meal
DESCRIPTION:
URL:https://www.seniorsolutionsvt.org/event/bondville-community-meal/2027-09-16/
LOCATION:Winhall Community Arts Center\, 3 River Road\, Bondville\, VT\, 05340\, United States
CATEGORIES:Community Meals
END:VEVENT
BEGIN:VEVENT
DTSTART;TZID=America/New_York:20271021T120000
DTEND;TZID=America/New_York:20271021T130000
DTSTAMP:20260424T191432
CREATED:20260421T174112Z
LAST-MODIFIED:20260421T174112Z
UID:10010475-1824120000-1824123600@www.seniorsolutionsvt.org
SUMMARY:Bondville Community Meal
DESCRIPTION:
URL:https://www.seniorsolutionsvt.org/event/bondville-community-meal/2027-10-21/
LOCATION:Winhall Community Arts Center\, 3 River Road\, Bondville\, VT\, 05340\, United States
CATEGORIES:Community Meals
END:VEVENT
BEGIN:VEVENT
DTSTART;TZID=America/New_York:20271118T120000
DTEND;TZID=America/New_York:20271118T130000
DTSTAMP:20260424T191432
CREATED:20260421T174112Z
LAST-MODIFIED:20260421T174112Z
UID:10010476-1826539200-1826542800@www.seniorsolutionsvt.org
SUMMARY:Bondville Community Meal
DESCRIPTION:
URL:https://www.seniorsolutionsvt.org/event/bondville-community-meal/2027-11-18/
LOCATION:Winhall Community Arts Center\, 3 River Road\, Bondville\, VT\, 05340\, United States
CATEGORIES:Community Meals
END:VEVENT
BEGIN:VEVENT
DTSTART;TZID=America/New_York:20271216T120000
DTEND;TZID=America/New_York:20271216T130000
DTSTAMP:20260424T191432
CREATED:20260421T174112Z
LAST-MODIFIED:20260421T174112Z
UID:10010477-1828958400-1828962000@www.seniorsolutionsvt.org
SUMMARY:Bondville Community Meal
DESCRIPTION:
URL:https://www.seniorsolutionsvt.org/event/bondville-community-meal/2027-12-16/
LOCATION:Winhall Community Arts Center\, 3 River Road\, Bondville\, VT\, 05340\, United States
CATEGORIES:Community Meals
END:VEVENT
BEGIN:VEVENT
DTSTART;TZID=America/New_York:20280120T120000
DTEND;TZID=America/New_York:20280120T130000
DTSTAMP:20260424T191432
CREATED:20260421T174112Z
LAST-MODIFIED:20260421T174112Z
UID:10010478-1831982400-1831986000@www.seniorsolutionsvt.org
SUMMARY:Bondville Community Meal
DESCRIPTION:
URL:https://www.seniorsolutionsvt.org/event/bondville-community-meal/2028-01-20/
LOCATION:Winhall Community Arts Center\, 3 River Road\, Bondville\, VT\, 05340\, United States
CATEGORIES:Community Meals
END:VEVENT
BEGIN:VEVENT
DTSTART;TZID=America/New_York:20280217T120000
DTEND;TZID=America/New_York:20280217T130000
DTSTAMP:20260424T191432
CREATED:20260421T174112Z
LAST-MODIFIED:20260421T174112Z
UID:10010479-1834401600-1834405200@www.seniorsolutionsvt.org
SUMMARY:Bondville Community Meal
DESCRIPTION:
URL:https://www.seniorsolutionsvt.org/event/bondville-community-meal/2028-02-17/
LOCATION:Winhall Community Arts Center\, 3 River Road\, Bondville\, VT\, 05340\, United States
CATEGORIES:Community Meals
END:VEVENT
BEGIN:VEVENT
DTSTART;TZID=America/New_York:20280316T120000
DTEND;TZID=America/New_York:20280316T130000
DTSTAMP:20260424T191432
CREATED:20260421T174112Z
LAST-MODIFIED:20260421T174112Z
UID:10010480-1836820800-1836824400@www.seniorsolutionsvt.org
SUMMARY:Bondville Community Meal
DESCRIPTION:
URL:https://www.seniorsolutionsvt.org/event/bondville-community-meal/2028-03-16/
LOCATION:Winhall Community Arts Center\, 3 River Road\, Bondville\, VT\, 05340\, United States
CATEGORIES:Community Meals
END:VEVENT
BEGIN:VEVENT
DTSTART;TZID=America/New_York:20280420T120000
DTEND;TZID=America/New_York:20280420T130000
DTSTAMP:20260424T191432
CREATED:20260421T174112Z
LAST-MODIFIED:20260421T174112Z
UID:10010481-1839844800-1839848400@www.seniorsolutionsvt.org
SUMMARY:Bondville Community Meal
DESCRIPTION:
URL:https://www.seniorsolutionsvt.org/event/bondville-community-meal/2028-04-20/
LOCATION:Winhall Community Arts Center\, 3 River Road\, Bondville\, VT\, 05340\, United States
CATEGORIES:Community Meals
END:VEVENT
BEGIN:VEVENT
DTSTART;TZID=America/New_York:20280518T120000
DTEND;TZID=America/New_York:20280518T130000
DTSTAMP:20260424T191432
CREATED:20260421T174112Z
LAST-MODIFIED:20260421T174112Z
UID:10010482-1842264000-1842267600@www.seniorsolutionsvt.org
SUMMARY:Bondville Community Meal
DESCRIPTION:
URL:https://www.seniorsolutionsvt.org/event/bondville-community-meal/2028-05-18/
LOCATION:Winhall Community Arts Center\, 3 River Road\, Bondville\, VT\, 05340\, United States
CATEGORIES:Community Meals
END:VEVENT
BEGIN:VEVENT
DTSTART;TZID=America/New_York:20280615T120000
DTEND;TZID=America/New_York:20280615T130000
DTSTAMP:20260424T191432
CREATED:20260421T174112Z
LAST-MODIFIED:20260421T174112Z
UID:10010483-1844683200-1844686800@www.seniorsolutionsvt.org
SUMMARY:Bondville Community Meal
DESCRIPTION:
URL:https://www.seniorsolutionsvt.org/event/bondville-community-meal/2028-06-15/
LOCATION:Winhall Community Arts Center\, 3 River Road\, Bondville\, VT\, 05340\, United States
CATEGORIES:Community Meals
END:VEVENT
BEGIN:VEVENT
DTSTART;TZID=America/New_York:20280720T120000
DTEND;TZID=America/New_York:20280720T130000
DTSTAMP:20260424T191432
CREATED:20260421T174112Z
LAST-MODIFIED:20260421T174112Z
UID:10010484-1847707200-1847710800@www.seniorsolutionsvt.org
SUMMARY:Bondville Community Meal
DESCRIPTION:
URL:https://www.seniorsolutionsvt.org/event/bondville-community-meal/2028-07-20/
LOCATION:Winhall Community Arts Center\, 3 River Road\, Bondville\, VT\, 05340\, United States
CATEGORIES:Community Meals
END:VEVENT
BEGIN:VEVENT
DTSTART;TZID=America/New_York:20280817T120000
DTEND;TZID=America/New_York:20280817T130000
DTSTAMP:20260424T191432
CREATED:20260421T174112Z
LAST-MODIFIED:20260421T174112Z
UID:10010485-1850126400-1850130000@www.seniorsolutionsvt.org
SUMMARY:Bondville Community Meal
DESCRIPTION:
URL:https://www.seniorsolutionsvt.org/event/bondville-community-meal/2028-08-17/
LOCATION:Winhall Community Arts Center\, 3 River Road\, Bondville\, VT\, 05340\, United States
CATEGORIES:Community Meals
END:VEVENT
BEGIN:VEVENT
DTSTART;TZID=America/New_York:20280921T120000
DTEND;TZID=America/New_York:20280921T130000
DTSTAMP:20260424T191432
CREATED:20260421T174112Z
LAST-MODIFIED:20260421T174112Z
UID:10010486-1853150400-1853154000@www.seniorsolutionsvt.org
SUMMARY:Bondville Community Meal
DESCRIPTION:
URL:https://www.seniorsolutionsvt.org/event/bondville-community-meal/2028-09-21/
LOCATION:Winhall Community Arts Center\, 3 River Road\, Bondville\, VT\, 05340\, United States
CATEGORIES:Community Meals
END:VEVENT
BEGIN:VEVENT
DTSTART;TZID=America/New_York:20281019T120000
DTEND;TZID=America/New_York:20281019T130000
DTSTAMP:20260424T191432
CREATED:20260421T174112Z
LAST-MODIFIED:20260421T174112Z
UID:10010487-1855569600-1855573200@www.seniorsolutionsvt.org
SUMMARY:Bondville Community Meal
DESCRIPTION:
URL:https://www.seniorsolutionsvt.org/event/bondville-community-meal/2028-10-19/
LOCATION:Winhall Community Arts Center\, 3 River Road\, Bondville\, VT\, 05340\, United States
CATEGORIES:Community Meals
END:VEVENT
END:VCALENDAR