BEGIN:VCALENDAR
VERSION:2.0
PRODID:-//Senior Solutions - ECPv6.15.20//NONSGML v1.0//EN
CALSCALE:GREGORIAN
METHOD:PUBLISH
X-WR-CALNAME:Senior Solutions
X-ORIGINAL-URL:https://www.seniorsolutionsvt.org
X-WR-CALDESC:Events for Senior Solutions
REFRESH-INTERVAL;VALUE=DURATION:PT1H
X-Robots-Tag:noindex
X-PUBLISHED-TTL:PT1H
BEGIN:VTIMEZONE
TZID:America/New_York
BEGIN:DAYLIGHT
TZOFFSETFROM:-0500
TZOFFSETTO:-0400
TZNAME:EDT
DTSTART:20250309T070000
END:DAYLIGHT
BEGIN:STANDARD
TZOFFSETFROM:-0400
TZOFFSETTO:-0500
TZNAME:EST
DTSTART:20251102T060000
END:STANDARD
BEGIN:DAYLIGHT
TZOFFSETFROM:-0500
TZOFFSETTO:-0400
TZNAME:EDT
DTSTART:20260308T070000
END:DAYLIGHT
BEGIN:STANDARD
TZOFFSETFROM:-0400
TZOFFSETTO:-0500
TZNAME:EST
DTSTART:20261101T060000
END:STANDARD
BEGIN:DAYLIGHT
TZOFFSETFROM:-0500
TZOFFSETTO:-0400
TZNAME:EDT
DTSTART:20270314T070000
END:DAYLIGHT
BEGIN:STANDARD
TZOFFSETFROM:-0400
TZOFFSETTO:-0500
TZNAME:EST
DTSTART:20271107T060000
END:STANDARD
BEGIN:DAYLIGHT
TZOFFSETFROM:-0500
TZOFFSETTO:-0400
TZNAME:EDT
DTSTART:20280312T070000
END:DAYLIGHT
BEGIN:STANDARD
TZOFFSETFROM:-0400
TZOFFSETTO:-0500
TZNAME:EST
DTSTART:20281105T060000
END:STANDARD
BEGIN:DAYLIGHT
TZOFFSETFROM:-0500
TZOFFSETTO:-0400
TZNAME:EDT
DTSTART:20290311T070000
END:DAYLIGHT
BEGIN:STANDARD
TZOFFSETFROM:-0400
TZOFFSETTO:-0500
TZNAME:EST
DTSTART:20291104T060000
END:STANDARD
END:VTIMEZONE
BEGIN:VEVENT
DTSTART;TZID=America/New_York:20260506T150000
DTEND;TZID=America/New_York:20260506T170000
DTSTAMP:20260423T110046
CREATED:20251010T135904Z
LAST-MODIFIED:20251010T135904Z
UID:10009919-1778079600-1778086800@www.seniorsolutionsvt.org
SUMMARY:South Londonderry
DESCRIPTION:First Wednesday of every month at 3:00 pm\, Senior Lunch and Bingo
URL:https://www.seniorsolutionsvt.org/event/south-londonderry/2026-05-06/
LOCATION:Smith Haven Apartments\, Smith Haven Lane\, South Londonderry\, VT\, United States
CATEGORIES:Community Meals
END:VEVENT
BEGIN:VEVENT
DTSTART;TZID=America/New_York:20260603T150000
DTEND;TZID=America/New_York:20260603T170000
DTSTAMP:20260423T110046
CREATED:20251010T135904Z
LAST-MODIFIED:20251010T135904Z
UID:10009920-1780498800-1780506000@www.seniorsolutionsvt.org
SUMMARY:South Londonderry
DESCRIPTION:First Wednesday of every month at 3:00 pm\, Senior Lunch and Bingo
URL:https://www.seniorsolutionsvt.org/event/south-londonderry/2026-06-03/
LOCATION:Smith Haven Apartments\, Smith Haven Lane\, South Londonderry\, VT\, United States
CATEGORIES:Community Meals
END:VEVENT
BEGIN:VEVENT
DTSTART;TZID=America/New_York:20260701T150000
DTEND;TZID=America/New_York:20260701T170000
DTSTAMP:20260423T110046
CREATED:20251010T135904Z
LAST-MODIFIED:20251010T135904Z
UID:10009921-1782918000-1782925200@www.seniorsolutionsvt.org
SUMMARY:South Londonderry
DESCRIPTION:First Wednesday of every month at 3:00 pm\, Senior Lunch and Bingo
URL:https://www.seniorsolutionsvt.org/event/south-londonderry/2026-07-01/
LOCATION:Smith Haven Apartments\, Smith Haven Lane\, South Londonderry\, VT\, United States
CATEGORIES:Community Meals
END:VEVENT
BEGIN:VEVENT
DTSTART;TZID=America/New_York:20260805T150000
DTEND;TZID=America/New_York:20260805T170000
DTSTAMP:20260423T110046
CREATED:20251010T135904Z
LAST-MODIFIED:20251010T135904Z
UID:10009922-1785942000-1785949200@www.seniorsolutionsvt.org
SUMMARY:South Londonderry
DESCRIPTION:First Wednesday of every month at 3:00 pm\, Senior Lunch and Bingo
URL:https://www.seniorsolutionsvt.org/event/south-londonderry/2026-08-05/
LOCATION:Smith Haven Apartments\, Smith Haven Lane\, South Londonderry\, VT\, United States
CATEGORIES:Community Meals
END:VEVENT
BEGIN:VEVENT
DTSTART;TZID=America/New_York:20260902T150000
DTEND;TZID=America/New_York:20260902T170000
DTSTAMP:20260423T110046
CREATED:20251010T135904Z
LAST-MODIFIED:20251010T135904Z
UID:10009923-1788361200-1788368400@www.seniorsolutionsvt.org
SUMMARY:South Londonderry
DESCRIPTION:First Wednesday of every month at 3:00 pm\, Senior Lunch and Bingo
URL:https://www.seniorsolutionsvt.org/event/south-londonderry/2026-09-02/
LOCATION:Smith Haven Apartments\, Smith Haven Lane\, South Londonderry\, VT\, United States
CATEGORIES:Community Meals
END:VEVENT
BEGIN:VEVENT
DTSTART;TZID=America/New_York:20261007T150000
DTEND;TZID=America/New_York:20261007T170000
DTSTAMP:20260423T110046
CREATED:20251010T135904Z
LAST-MODIFIED:20251010T135904Z
UID:10009924-1791385200-1791392400@www.seniorsolutionsvt.org
SUMMARY:South Londonderry
DESCRIPTION:First Wednesday of every month at 3:00 pm\, Senior Lunch and Bingo
URL:https://www.seniorsolutionsvt.org/event/south-londonderry/2026-10-07/
LOCATION:Smith Haven Apartments\, Smith Haven Lane\, South Londonderry\, VT\, United States
CATEGORIES:Community Meals
END:VEVENT
BEGIN:VEVENT
DTSTART;TZID=America/New_York:20261104T150000
DTEND;TZID=America/New_York:20261104T170000
DTSTAMP:20260423T110046
CREATED:20251010T135904Z
LAST-MODIFIED:20251010T135904Z
UID:10009925-1793804400-1793811600@www.seniorsolutionsvt.org
SUMMARY:South Londonderry
DESCRIPTION:First Wednesday of every month at 3:00 pm\, Senior Lunch and Bingo
URL:https://www.seniorsolutionsvt.org/event/south-londonderry/2026-11-04/
LOCATION:Smith Haven Apartments\, Smith Haven Lane\, South Londonderry\, VT\, United States
CATEGORIES:Community Meals
END:VEVENT
BEGIN:VEVENT
DTSTART;TZID=America/New_York:20261202T150000
DTEND;TZID=America/New_York:20261202T170000
DTSTAMP:20260423T110046
CREATED:20251010T135904Z
LAST-MODIFIED:20251010T135904Z
UID:10009926-1796223600-1796230800@www.seniorsolutionsvt.org
SUMMARY:South Londonderry
DESCRIPTION:First Wednesday of every month at 3:00 pm\, Senior Lunch and Bingo
URL:https://www.seniorsolutionsvt.org/event/south-londonderry/2026-12-02/
LOCATION:Smith Haven Apartments\, Smith Haven Lane\, South Londonderry\, VT\, United States
CATEGORIES:Community Meals
END:VEVENT
BEGIN:VEVENT
DTSTART;TZID=America/New_York:20270106T150000
DTEND;TZID=America/New_York:20270106T170000
DTSTAMP:20260423T110046
CREATED:20251010T135904Z
LAST-MODIFIED:20251010T135904Z
UID:10009927-1799247600-1799254800@www.seniorsolutionsvt.org
SUMMARY:South Londonderry
DESCRIPTION:First Wednesday of every month at 3:00 pm\, Senior Lunch and Bingo
URL:https://www.seniorsolutionsvt.org/event/south-londonderry/2027-01-06/
LOCATION:Smith Haven Apartments\, Smith Haven Lane\, South Londonderry\, VT\, United States
CATEGORIES:Community Meals
END:VEVENT
BEGIN:VEVENT
DTSTART;TZID=America/New_York:20270203T150000
DTEND;TZID=America/New_York:20270203T170000
DTSTAMP:20260423T110046
CREATED:20251010T135904Z
LAST-MODIFIED:20251010T135904Z
UID:10009928-1801666800-1801674000@www.seniorsolutionsvt.org
SUMMARY:South Londonderry
DESCRIPTION:First Wednesday of every month at 3:00 pm\, Senior Lunch and Bingo
URL:https://www.seniorsolutionsvt.org/event/south-londonderry/2027-02-03/
LOCATION:Smith Haven Apartments\, Smith Haven Lane\, South Londonderry\, VT\, United States
CATEGORIES:Community Meals
END:VEVENT
BEGIN:VEVENT
DTSTART;TZID=America/New_York:20270303T150000
DTEND;TZID=America/New_York:20270303T170000
DTSTAMP:20260423T110046
CREATED:20251010T135904Z
LAST-MODIFIED:20251010T135904Z
UID:10009929-1804086000-1804093200@www.seniorsolutionsvt.org
SUMMARY:South Londonderry
DESCRIPTION:First Wednesday of every month at 3:00 pm\, Senior Lunch and Bingo
URL:https://www.seniorsolutionsvt.org/event/south-londonderry/2027-03-03/
LOCATION:Smith Haven Apartments\, Smith Haven Lane\, South Londonderry\, VT\, United States
CATEGORIES:Community Meals
END:VEVENT
BEGIN:VEVENT
DTSTART;TZID=America/New_York:20270407T150000
DTEND;TZID=America/New_York:20270407T170000
DTSTAMP:20260423T110046
CREATED:20251010T135904Z
LAST-MODIFIED:20251010T135904Z
UID:10009930-1807110000-1807117200@www.seniorsolutionsvt.org
SUMMARY:South Londonderry
DESCRIPTION:First Wednesday of every month at 3:00 pm\, Senior Lunch and Bingo
URL:https://www.seniorsolutionsvt.org/event/south-londonderry/2027-04-07/
LOCATION:Smith Haven Apartments\, Smith Haven Lane\, South Londonderry\, VT\, United States
CATEGORIES:Community Meals
END:VEVENT
BEGIN:VEVENT
DTSTART;TZID=America/New_York:20270505T150000
DTEND;TZID=America/New_York:20270505T170000
DTSTAMP:20260423T110046
CREATED:20251010T135904Z
LAST-MODIFIED:20251010T135904Z
UID:10009931-1809529200-1809536400@www.seniorsolutionsvt.org
SUMMARY:South Londonderry
DESCRIPTION:First Wednesday of every month at 3:00 pm\, Senior Lunch and Bingo
URL:https://www.seniorsolutionsvt.org/event/south-londonderry/2027-05-05/
LOCATION:Smith Haven Apartments\, Smith Haven Lane\, South Londonderry\, VT\, United States
CATEGORIES:Community Meals
END:VEVENT
BEGIN:VEVENT
DTSTART;TZID=America/New_York:20270602T150000
DTEND;TZID=America/New_York:20270602T170000
DTSTAMP:20260423T110046
CREATED:20251010T135904Z
LAST-MODIFIED:20251010T135904Z
UID:10009932-1811948400-1811955600@www.seniorsolutionsvt.org
SUMMARY:South Londonderry
DESCRIPTION:First Wednesday of every month at 3:00 pm\, Senior Lunch and Bingo
URL:https://www.seniorsolutionsvt.org/event/south-londonderry/2027-06-02/
LOCATION:Smith Haven Apartments\, Smith Haven Lane\, South Londonderry\, VT\, United States
CATEGORIES:Community Meals
END:VEVENT
BEGIN:VEVENT
DTSTART;TZID=America/New_York:20270707T150000
DTEND;TZID=America/New_York:20270707T170000
DTSTAMP:20260423T110046
CREATED:20251010T135904Z
LAST-MODIFIED:20251010T135904Z
UID:10009933-1814972400-1814979600@www.seniorsolutionsvt.org
SUMMARY:South Londonderry
DESCRIPTION:First Wednesday of every month at 3:00 pm\, Senior Lunch and Bingo
URL:https://www.seniorsolutionsvt.org/event/south-londonderry/2027-07-07/
LOCATION:Smith Haven Apartments\, Smith Haven Lane\, South Londonderry\, VT\, United States
CATEGORIES:Community Meals
END:VEVENT
BEGIN:VEVENT
DTSTART;TZID=America/New_York:20270804T150000
DTEND;TZID=America/New_York:20270804T170000
DTSTAMP:20260423T110046
CREATED:20251010T135904Z
LAST-MODIFIED:20251010T135904Z
UID:10009934-1817391600-1817398800@www.seniorsolutionsvt.org
SUMMARY:South Londonderry
DESCRIPTION:First Wednesday of every month at 3:00 pm\, Senior Lunch and Bingo
URL:https://www.seniorsolutionsvt.org/event/south-londonderry/2027-08-04/
LOCATION:Smith Haven Apartments\, Smith Haven Lane\, South Londonderry\, VT\, United States
CATEGORIES:Community Meals
END:VEVENT
BEGIN:VEVENT
DTSTART;TZID=America/New_York:20270901T150000
DTEND;TZID=America/New_York:20270901T170000
DTSTAMP:20260423T110046
CREATED:20251010T135904Z
LAST-MODIFIED:20251010T135904Z
UID:10009935-1819810800-1819818000@www.seniorsolutionsvt.org
SUMMARY:South Londonderry
DESCRIPTION:First Wednesday of every month at 3:00 pm\, Senior Lunch and Bingo
URL:https://www.seniorsolutionsvt.org/event/south-londonderry/2027-09-01/
LOCATION:Smith Haven Apartments\, Smith Haven Lane\, South Londonderry\, VT\, United States
CATEGORIES:Community Meals
END:VEVENT
BEGIN:VEVENT
DTSTART;TZID=America/New_York:20271006T150000
DTEND;TZID=America/New_York:20271006T170000
DTSTAMP:20260423T110046
CREATED:20251010T135904Z
LAST-MODIFIED:20251010T135904Z
UID:10009936-1822834800-1822842000@www.seniorsolutionsvt.org
SUMMARY:South Londonderry
DESCRIPTION:First Wednesday of every month at 3:00 pm\, Senior Lunch and Bingo
URL:https://www.seniorsolutionsvt.org/event/south-londonderry/2027-10-06/
LOCATION:Smith Haven Apartments\, Smith Haven Lane\, South Londonderry\, VT\, United States
CATEGORIES:Community Meals
END:VEVENT
BEGIN:VEVENT
DTSTART;TZID=America/New_York:20271103T150000
DTEND;TZID=America/New_York:20271103T170000
DTSTAMP:20260423T110046
CREATED:20251010T135904Z
LAST-MODIFIED:20251010T135904Z
UID:10009937-1825254000-1825261200@www.seniorsolutionsvt.org
SUMMARY:South Londonderry
DESCRIPTION:First Wednesday of every month at 3:00 pm\, Senior Lunch and Bingo
URL:https://www.seniorsolutionsvt.org/event/south-londonderry/2027-11-03/
LOCATION:Smith Haven Apartments\, Smith Haven Lane\, South Londonderry\, VT\, United States
CATEGORIES:Community Meals
END:VEVENT
BEGIN:VEVENT
DTSTART;TZID=America/New_York:20271201T150000
DTEND;TZID=America/New_York:20271201T170000
DTSTAMP:20260423T110046
CREATED:20251010T135904Z
LAST-MODIFIED:20251010T135904Z
UID:10009938-1827673200-1827680400@www.seniorsolutionsvt.org
SUMMARY:South Londonderry
DESCRIPTION:First Wednesday of every month at 3:00 pm\, Senior Lunch and Bingo
URL:https://www.seniorsolutionsvt.org/event/south-londonderry/2027-12-01/
LOCATION:Smith Haven Apartments\, Smith Haven Lane\, South Londonderry\, VT\, United States
CATEGORIES:Community Meals
END:VEVENT
BEGIN:VEVENT
DTSTART;TZID=America/New_York:20280105T150000
DTEND;TZID=America/New_York:20280105T170000
DTSTAMP:20260423T110046
CREATED:20251010T135904Z
LAST-MODIFIED:20251010T135904Z
UID:10009939-1830697200-1830704400@www.seniorsolutionsvt.org
SUMMARY:South Londonderry
DESCRIPTION:First Wednesday of every month at 3:00 pm\, Senior Lunch and Bingo
URL:https://www.seniorsolutionsvt.org/event/south-londonderry/2028-01-05/
LOCATION:Smith Haven Apartments\, Smith Haven Lane\, South Londonderry\, VT\, United States
CATEGORIES:Community Meals
END:VEVENT
BEGIN:VEVENT
DTSTART;TZID=America/New_York:20280202T150000
DTEND;TZID=America/New_York:20280202T170000
DTSTAMP:20260423T110046
CREATED:20251010T135904Z
LAST-MODIFIED:20251010T135904Z
UID:10009940-1833116400-1833123600@www.seniorsolutionsvt.org
SUMMARY:South Londonderry
DESCRIPTION:First Wednesday of every month at 3:00 pm\, Senior Lunch and Bingo
URL:https://www.seniorsolutionsvt.org/event/south-londonderry/2028-02-02/
LOCATION:Smith Haven Apartments\, Smith Haven Lane\, South Londonderry\, VT\, United States
CATEGORIES:Community Meals
END:VEVENT
BEGIN:VEVENT
DTSTART;TZID=America/New_York:20280301T150000
DTEND;TZID=America/New_York:20280301T170000
DTSTAMP:20260423T110046
CREATED:20251010T135904Z
LAST-MODIFIED:20251010T135904Z
UID:10009941-1835535600-1835542800@www.seniorsolutionsvt.org
SUMMARY:South Londonderry
DESCRIPTION:First Wednesday of every month at 3:00 pm\, Senior Lunch and Bingo
URL:https://www.seniorsolutionsvt.org/event/south-londonderry/2028-03-01/
LOCATION:Smith Haven Apartments\, Smith Haven Lane\, South Londonderry\, VT\, United States
CATEGORIES:Community Meals
END:VEVENT
BEGIN:VEVENT
DTSTART;TZID=America/New_York:20280405T150000
DTEND;TZID=America/New_York:20280405T170000
DTSTAMP:20260423T110046
CREATED:20251010T135904Z
LAST-MODIFIED:20251010T135904Z
UID:10009942-1838559600-1838566800@www.seniorsolutionsvt.org
SUMMARY:South Londonderry
DESCRIPTION:First Wednesday of every month at 3:00 pm\, Senior Lunch and Bingo
URL:https://www.seniorsolutionsvt.org/event/south-londonderry/2028-04-05/
LOCATION:Smith Haven Apartments\, Smith Haven Lane\, South Londonderry\, VT\, United States
CATEGORIES:Community Meals
END:VEVENT
BEGIN:VEVENT
DTSTART;TZID=America/New_York:20280503T150000
DTEND;TZID=America/New_York:20280503T170000
DTSTAMP:20260423T110046
CREATED:20251010T135904Z
LAST-MODIFIED:20251010T135904Z
UID:10009943-1840978800-1840986000@www.seniorsolutionsvt.org
SUMMARY:South Londonderry
DESCRIPTION:First Wednesday of every month at 3:00 pm\, Senior Lunch and Bingo
URL:https://www.seniorsolutionsvt.org/event/south-londonderry/2028-05-03/
LOCATION:Smith Haven Apartments\, Smith Haven Lane\, South Londonderry\, VT\, United States
CATEGORIES:Community Meals
END:VEVENT
BEGIN:VEVENT
DTSTART;TZID=America/New_York:20280607T150000
DTEND;TZID=America/New_York:20280607T170000
DTSTAMP:20260423T110046
CREATED:20251010T135904Z
LAST-MODIFIED:20251010T135904Z
UID:10009944-1844002800-1844010000@www.seniorsolutionsvt.org
SUMMARY:South Londonderry
DESCRIPTION:First Wednesday of every month at 3:00 pm\, Senior Lunch and Bingo
URL:https://www.seniorsolutionsvt.org/event/south-londonderry/2028-06-07/
LOCATION:Smith Haven Apartments\, Smith Haven Lane\, South Londonderry\, VT\, United States
CATEGORIES:Community Meals
END:VEVENT
BEGIN:VEVENT
DTSTART;TZID=America/New_York:20280705T150000
DTEND;TZID=America/New_York:20280705T170000
DTSTAMP:20260423T110046
CREATED:20251010T135904Z
LAST-MODIFIED:20251010T135904Z
UID:10009945-1846422000-1846429200@www.seniorsolutionsvt.org
SUMMARY:South Londonderry
DESCRIPTION:First Wednesday of every month at 3:00 pm\, Senior Lunch and Bingo
URL:https://www.seniorsolutionsvt.org/event/south-londonderry/2028-07-05/
LOCATION:Smith Haven Apartments\, Smith Haven Lane\, South Londonderry\, VT\, United States
CATEGORIES:Community Meals
END:VEVENT
BEGIN:VEVENT
DTSTART;TZID=America/New_York:20280802T150000
DTEND;TZID=America/New_York:20280802T170000
DTSTAMP:20260423T110046
CREATED:20251010T135904Z
LAST-MODIFIED:20251010T135904Z
UID:10009946-1848841200-1848848400@www.seniorsolutionsvt.org
SUMMARY:South Londonderry
DESCRIPTION:First Wednesday of every month at 3:00 pm\, Senior Lunch and Bingo
URL:https://www.seniorsolutionsvt.org/event/south-londonderry/2028-08-02/
LOCATION:Smith Haven Apartments\, Smith Haven Lane\, South Londonderry\, VT\, United States
CATEGORIES:Community Meals
END:VEVENT
BEGIN:VEVENT
DTSTART;TZID=America/New_York:20280906T150000
DTEND;TZID=America/New_York:20280906T170000
DTSTAMP:20260423T110046
CREATED:20251010T135904Z
LAST-MODIFIED:20251010T135904Z
UID:10009947-1851865200-1851872400@www.seniorsolutionsvt.org
SUMMARY:South Londonderry
DESCRIPTION:First Wednesday of every month at 3:00 pm\, Senior Lunch and Bingo
URL:https://www.seniorsolutionsvt.org/event/south-londonderry/2028-09-06/
LOCATION:Smith Haven Apartments\, Smith Haven Lane\, South Londonderry\, VT\, United States
CATEGORIES:Community Meals
END:VEVENT
BEGIN:VEVENT
DTSTART;TZID=America/New_York:20281004T150000
DTEND;TZID=America/New_York:20281004T170000
DTSTAMP:20260423T110046
CREATED:20251010T135904Z
LAST-MODIFIED:20251010T135904Z
UID:10009948-1854284400-1854291600@www.seniorsolutionsvt.org
SUMMARY:South Londonderry
DESCRIPTION:First Wednesday of every month at 3:00 pm\, Senior Lunch and Bingo
URL:https://www.seniorsolutionsvt.org/event/south-londonderry/2028-10-04/
LOCATION:Smith Haven Apartments\, Smith Haven Lane\, South Londonderry\, VT\, United States
CATEGORIES:Community Meals
END:VEVENT
END:VCALENDAR