BEGIN:VCALENDAR
VERSION:2.0
PRODID:-//Senior Solutions - ECPv6.15.20//NONSGML v1.0//EN
CALSCALE:GREGORIAN
METHOD:PUBLISH
X-WR-CALNAME:Senior Solutions
X-ORIGINAL-URL:https://www.seniorsolutionsvt.org
X-WR-CALDESC:Events for Senior Solutions
REFRESH-INTERVAL;VALUE=DURATION:PT1H
X-Robots-Tag:noindex
X-PUBLISHED-TTL:PT1H
BEGIN:VTIMEZONE
TZID:America/New_York
BEGIN:DAYLIGHT
TZOFFSETFROM:-0500
TZOFFSETTO:-0400
TZNAME:EDT
DTSTART:20250309T070000
END:DAYLIGHT
BEGIN:STANDARD
TZOFFSETFROM:-0400
TZOFFSETTO:-0500
TZNAME:EST
DTSTART:20251102T060000
END:STANDARD
BEGIN:DAYLIGHT
TZOFFSETFROM:-0500
TZOFFSETTO:-0400
TZNAME:EDT
DTSTART:20260308T070000
END:DAYLIGHT
BEGIN:STANDARD
TZOFFSETFROM:-0400
TZOFFSETTO:-0500
TZNAME:EST
DTSTART:20261101T060000
END:STANDARD
BEGIN:DAYLIGHT
TZOFFSETFROM:-0500
TZOFFSETTO:-0400
TZNAME:EDT
DTSTART:20270314T070000
END:DAYLIGHT
BEGIN:STANDARD
TZOFFSETFROM:-0400
TZOFFSETTO:-0500
TZNAME:EST
DTSTART:20271107T060000
END:STANDARD
END:VTIMEZONE
BEGIN:VEVENT
DTSTART;TZID=America/New_York:20260217T113000
DTEND;TZID=America/New_York:20260217T123000
DTSTAMP:20260426T002420
CREATED:20250103T142555Z
LAST-MODIFIED:20250221T222206Z
UID:10002344-1771327800-1771331400@www.seniorsolutionsvt.org
SUMMARY:Bellows Falls Community Meal
DESCRIPTION:
URL:https://www.seniorsolutionsvt.org/event/bellows-falls-community-meal/2026-02-17/
LOCATION:Bellows Falls Senior Center\, 18 Tuttle Street\, Bellows Falls\, VT\, 05101
CATEGORIES:Community Meals
END:VEVENT
BEGIN:VEVENT
DTSTART;TZID=America/New_York:20260217T120000
DTEND;TZID=America/New_York:20260217T130000
DTSTAMP:20260426T002420
CREATED:20251010T140443Z
LAST-MODIFIED:20251010T140443Z
UID:10010096-1771329600-1771333200@www.seniorsolutionsvt.org
SUMMARY:Chester Community Meal
DESCRIPTION:
URL:https://www.seniorsolutionsvt.org/event/chester-community-meal/2026-02-17/
LOCATION:Chester Senior Circle\, 150 Senior Circle\, Chester\, Vermont\, United States
CATEGORIES:Community Meals
END:VEVENT
BEGIN:VEVENT
DTSTART;TZID=America/New_York:20260217T120000
DTEND;TZID=America/New_York:20260217T130000
DTSTAMP:20260426T002420
CREATED:20250103T142749Z
LAST-MODIFIED:20250228T182022Z
UID:10001271-1771329600-1771333200@www.seniorsolutionsvt.org
SUMMARY:Saxtons River Community Meal
DESCRIPTION:
URL:https://www.seniorsolutionsvt.org/event/saxtons-river-communitymeal/2026-02-17/
LOCATION:Main Street Arts\, 35 Main Street\, Saxtons River\, VT\, 05154
CATEGORIES:Community Meals
END:VEVENT
BEGIN:VEVENT
DTSTART;TZID=America/New_York:20260217T120000
DTEND;TZID=America/New_York:20260217T130000
DTSTAMP:20260426T002420
CREATED:20250103T142737Z
LAST-MODIFIED:20250221T222239Z
UID:10005060-1771329600-1771333200@www.seniorsolutionsvt.org
SUMMARY:Woodstock Community Meal
DESCRIPTION:
URL:https://www.seniorsolutionsvt.org/event/woodstock-community-meal/2026-02-17/
LOCATION:Thompson Senior Center\, 99 Senior Lane\, Woodstock\, VT\, 05091
CATEGORIES:Community Meals
END:VEVENT
BEGIN:VEVENT
DTSTART;TZID=America/New_York:20260217T120000
DTEND;TZID=America/New_York:20260217T130000
DTSTAMP:20260426T002420
CREATED:20250103T142737Z
LAST-MODIFIED:20250221T222254Z
UID:10006418-1771329600-1771333200@www.seniorsolutionsvt.org
SUMMARY:Hartford Community Meal
DESCRIPTION:
URL:https://www.seniorsolutionsvt.org/event/hartford-community-meal/2026-02-17/
LOCATION:Bugbee Senior Center\, 262 North Main St\, White River Junction\, VT\, 05001
CATEGORIES:Community Meals
END:VEVENT
BEGIN:VEVENT
DTSTART;TZID=America/New_York:20260217T120000
DTEND;TZID=America/New_York:20260217T130000
DTSTAMP:20260426T002420
CREATED:20250103T142553Z
LAST-MODIFIED:20250221T222220Z
UID:10003702-1771329600-1771333200@www.seniorsolutionsvt.org
SUMMARY:Brattleboro Senior Meal
DESCRIPTION:
URL:https://www.seniorsolutionsvt.org/event/brattleboro-senior-meal/2026-02-17/
LOCATION:Gibson-Aiken Center\, 207 Main Street\, Brattleboro\, VT\, 05301
CATEGORIES:Community Meals
END:VEVENT
BEGIN:VEVENT
DTSTART;TZID=America/New_York:20260218T113000
DTEND;TZID=America/New_York:20260218T123000
DTSTAMP:20260426T002420
CREATED:20250103T142555Z
LAST-MODIFIED:20250221T222206Z
UID:10002345-1771414200-1771417800@www.seniorsolutionsvt.org
SUMMARY:Bellows Falls Community Meal
DESCRIPTION:
URL:https://www.seniorsolutionsvt.org/event/bellows-falls-community-meal/2026-02-18/
LOCATION:Bellows Falls Senior Center\, 18 Tuttle Street\, Bellows Falls\, VT\, 05101
CATEGORIES:Community Meals
END:VEVENT
BEGIN:VEVENT
DTSTART;TZID=America/New_York:20260218T120000
DTEND;TZID=America/New_York:20260218T130000
DTSTAMP:20260426T002420
CREATED:20250103T142737Z
LAST-MODIFIED:20250221T222239Z
UID:10005061-1771416000-1771419600@www.seniorsolutionsvt.org
SUMMARY:Woodstock Community Meal
DESCRIPTION:
URL:https://www.seniorsolutionsvt.org/event/woodstock-community-meal/2026-02-18/
LOCATION:Thompson Senior Center\, 99 Senior Lane\, Woodstock\, VT\, 05091
CATEGORIES:Community Meals
END:VEVENT
BEGIN:VEVENT
DTSTART;TZID=America/New_York:20260218T120000
DTEND;TZID=America/New_York:20260218T130000
DTSTAMP:20260426T002420
CREATED:20250103T142737Z
LAST-MODIFIED:20250221T222254Z
UID:10006419-1771416000-1771419600@www.seniorsolutionsvt.org
SUMMARY:Hartford Community Meal
DESCRIPTION:
URL:https://www.seniorsolutionsvt.org/event/hartford-community-meal/2026-02-18/
LOCATION:Bugbee Senior Center\, 262 North Main St\, White River Junction\, VT\, 05001
CATEGORIES:Community Meals
END:VEVENT
BEGIN:VEVENT
DTSTART;TZID=America/New_York:20260218T120000
DTEND;TZID=America/New_York:20260218T130000
DTSTAMP:20260426T002420
CREATED:20250103T142553Z
LAST-MODIFIED:20250221T222220Z
UID:10003703-1771416000-1771419600@www.seniorsolutionsvt.org
SUMMARY:Brattleboro Senior Meal
DESCRIPTION:
URL:https://www.seniorsolutionsvt.org/event/brattleboro-senior-meal/2026-02-18/
LOCATION:Gibson-Aiken Center\, 207 Main Street\, Brattleboro\, VT\, 05301
CATEGORIES:Community Meals
END:VEVENT
BEGIN:VEVENT
DTSTART;TZID=America/New_York:20260219T113000
DTEND;TZID=America/New_York:20260219T123000
DTSTAMP:20260426T002420
CREATED:20250103T142555Z
LAST-MODIFIED:20250221T222206Z
UID:10002346-1771500600-1771504200@www.seniorsolutionsvt.org
SUMMARY:Bellows Falls Community Meal
DESCRIPTION:
URL:https://www.seniorsolutionsvt.org/event/bellows-falls-community-meal/2026-02-19/
LOCATION:Bellows Falls Senior Center\, 18 Tuttle Street\, Bellows Falls\, VT\, 05101
CATEGORIES:Community Meals
END:VEVENT
BEGIN:VEVENT
DTSTART;TZID=America/New_York:20260219T120000
DTEND;TZID=America/New_York:20260219T130000
DTSTAMP:20260426T002420
CREATED:20250103T142750Z
LAST-MODIFIED:20250221T221149Z
UID:10001037-1771502400-1771506000@www.seniorsolutionsvt.org
SUMMARY:Ludlow Community Meal
DESCRIPTION:
URL:https://www.seniorsolutionsvt.org/event/ludlow-community-meal-2/2026-02-19/
LOCATION:Black River Good Neighbors\, 37B Main Street\, Ludlow\, VT\, 05149
CATEGORIES:Community Meals
END:VEVENT
BEGIN:VEVENT
DTSTART;TZID=America/New_York:20260219T120000
DTEND;TZID=America/New_York:20260219T130000
DTSTAMP:20260426T002420
CREATED:20250103T142737Z
LAST-MODIFIED:20250221T222239Z
UID:10005062-1771502400-1771506000@www.seniorsolutionsvt.org
SUMMARY:Woodstock Community Meal
DESCRIPTION:
URL:https://www.seniorsolutionsvt.org/event/woodstock-community-meal/2026-02-19/
LOCATION:Thompson Senior Center\, 99 Senior Lane\, Woodstock\, VT\, 05091
CATEGORIES:Community Meals
END:VEVENT
BEGIN:VEVENT
DTSTART;TZID=America/New_York:20260219T120000
DTEND;TZID=America/New_York:20260219T130000
DTSTAMP:20260426T002420
CREATED:20250103T142737Z
LAST-MODIFIED:20250221T222254Z
UID:10006420-1771502400-1771506000@www.seniorsolutionsvt.org
SUMMARY:Hartford Community Meal
DESCRIPTION:
URL:https://www.seniorsolutionsvt.org/event/hartford-community-meal/2026-02-19/
LOCATION:Bugbee Senior Center\, 262 North Main St\, White River Junction\, VT\, 05001
CATEGORIES:Community Meals
END:VEVENT
BEGIN:VEVENT
DTSTART;TZID=America/New_York:20260219T120000
DTEND;TZID=America/New_York:20260219T130000
DTSTAMP:20260426T002420
CREATED:20250103T142553Z
LAST-MODIFIED:20250221T222220Z
UID:10003704-1771502400-1771506000@www.seniorsolutionsvt.org
SUMMARY:Brattleboro Senior Meal
DESCRIPTION:
URL:https://www.seniorsolutionsvt.org/event/brattleboro-senior-meal/2026-02-19/
LOCATION:Gibson-Aiken Center\, 207 Main Street\, Brattleboro\, VT\, 05301
CATEGORIES:Community Meals
END:VEVENT
BEGIN:VEVENT
DTSTART;TZID=America/New_York:20260220T113000
DTEND;TZID=America/New_York:20260220T123000
DTSTAMP:20260426T002420
CREATED:20250103T142555Z
LAST-MODIFIED:20250221T222206Z
UID:10002347-1771587000-1771590600@www.seniorsolutionsvt.org
SUMMARY:Bellows Falls Community Meal
DESCRIPTION:
URL:https://www.seniorsolutionsvt.org/event/bellows-falls-community-meal/2026-02-20/
LOCATION:Bellows Falls Senior Center\, 18 Tuttle Street\, Bellows Falls\, VT\, 05101
CATEGORIES:Community Meals
END:VEVENT
BEGIN:VEVENT
DTSTART;TZID=America/New_York:20260220T120000
DTEND;TZID=America/New_York:20260220T130000
DTSTAMP:20260426T002420
CREATED:20250103T142750Z
LAST-MODIFIED:20250221T221036Z
UID:10000789-1771588800-1771592400@www.seniorsolutionsvt.org
SUMMARY:Halifax Community Meal
DESCRIPTION:
URL:https://www.seniorsolutionsvt.org/event/halifax-community-meal/2026-02-20/
LOCATION:Community Hall\, 20 Brook Road\, West Halifax\, VT\, 05358
CATEGORIES:Community Meals
END:VEVENT
BEGIN:VEVENT
DTSTART;TZID=America/New_York:20260220T120000
DTEND;TZID=America/New_York:20260220T130000
DTSTAMP:20260426T002420
CREATED:20250103T142737Z
LAST-MODIFIED:20250221T222239Z
UID:10005063-1771588800-1771592400@www.seniorsolutionsvt.org
SUMMARY:Woodstock Community Meal
DESCRIPTION:
URL:https://www.seniorsolutionsvt.org/event/woodstock-community-meal/2026-02-20/
LOCATION:Thompson Senior Center\, 99 Senior Lane\, Woodstock\, VT\, 05091
CATEGORIES:Community Meals
END:VEVENT
BEGIN:VEVENT
DTSTART;TZID=America/New_York:20260220T120000
DTEND;TZID=America/New_York:20260220T130000
DTSTAMP:20260426T002420
CREATED:20250103T142737Z
LAST-MODIFIED:20250221T222254Z
UID:10006421-1771588800-1771592400@www.seniorsolutionsvt.org
SUMMARY:Hartford Community Meal
DESCRIPTION:
URL:https://www.seniorsolutionsvt.org/event/hartford-community-meal/2026-02-20/
LOCATION:Bugbee Senior Center\, 262 North Main St\, White River Junction\, VT\, 05001
CATEGORIES:Community Meals
END:VEVENT
BEGIN:VEVENT
DTSTART;TZID=America/New_York:20260220T120000
DTEND;TZID=America/New_York:20260220T130000
DTSTAMP:20260426T002420
CREATED:20250103T142553Z
LAST-MODIFIED:20250221T222220Z
UID:10003705-1771588800-1771592400@www.seniorsolutionsvt.org
SUMMARY:Brattleboro Senior Meal
DESCRIPTION:
URL:https://www.seniorsolutionsvt.org/event/brattleboro-senior-meal/2026-02-20/
LOCATION:Gibson-Aiken Center\, 207 Main Street\, Brattleboro\, VT\, 05301
CATEGORIES:Community Meals
END:VEVENT
BEGIN:VEVENT
DTSTART;TZID=America/New_York:20260223T113000
DTEND;TZID=America/New_York:20260223T123000
DTSTAMP:20260426T002420
CREATED:20250103T142555Z
LAST-MODIFIED:20250221T222206Z
UID:10002348-1771846200-1771849800@www.seniorsolutionsvt.org
SUMMARY:Bellows Falls Community Meal
DESCRIPTION:
URL:https://www.seniorsolutionsvt.org/event/bellows-falls-community-meal/2026-02-23/
LOCATION:Bellows Falls Senior Center\, 18 Tuttle Street\, Bellows Falls\, VT\, 05101
CATEGORIES:Community Meals
END:VEVENT
BEGIN:VEVENT
DTSTART;TZID=America/New_York:20260223T120000
DTEND;TZID=America/New_York:20260223T130000
DTSTAMP:20260426T002420
CREATED:20250103T142737Z
LAST-MODIFIED:20250221T222239Z
UID:10005064-1771848000-1771851600@www.seniorsolutionsvt.org
SUMMARY:Woodstock Community Meal
DESCRIPTION:
URL:https://www.seniorsolutionsvt.org/event/woodstock-community-meal/2026-02-23/
LOCATION:Thompson Senior Center\, 99 Senior Lane\, Woodstock\, VT\, 05091
CATEGORIES:Community Meals
END:VEVENT
BEGIN:VEVENT
DTSTART;TZID=America/New_York:20260223T120000
DTEND;TZID=America/New_York:20260223T130000
DTSTAMP:20260426T002420
CREATED:20250103T142737Z
LAST-MODIFIED:20250221T222254Z
UID:10006422-1771848000-1771851600@www.seniorsolutionsvt.org
SUMMARY:Hartford Community Meal
DESCRIPTION:
URL:https://www.seniorsolutionsvt.org/event/hartford-community-meal/2026-02-23/
LOCATION:Bugbee Senior Center\, 262 North Main St\, White River Junction\, VT\, 05001
CATEGORIES:Community Meals
END:VEVENT
BEGIN:VEVENT
DTSTART;TZID=America/New_York:20260223T120000
DTEND;TZID=America/New_York:20260223T130000
DTSTAMP:20260426T002420
CREATED:20250103T142553Z
LAST-MODIFIED:20250221T222220Z
UID:10003706-1771848000-1771851600@www.seniorsolutionsvt.org
SUMMARY:Brattleboro Senior Meal
DESCRIPTION:
URL:https://www.seniorsolutionsvt.org/event/brattleboro-senior-meal/2026-02-23/
LOCATION:Gibson-Aiken Center\, 207 Main Street\, Brattleboro\, VT\, 05301
CATEGORIES:Community Meals
END:VEVENT
BEGIN:VEVENT
DTSTART;TZID=America/New_York:20260224T113000
DTEND;TZID=America/New_York:20260224T123000
DTSTAMP:20260426T002420
CREATED:20250103T142555Z
LAST-MODIFIED:20250221T222206Z
UID:10002349-1771932600-1771936200@www.seniorsolutionsvt.org
SUMMARY:Bellows Falls Community Meal
DESCRIPTION:
URL:https://www.seniorsolutionsvt.org/event/bellows-falls-community-meal/2026-02-24/
LOCATION:Bellows Falls Senior Center\, 18 Tuttle Street\, Bellows Falls\, VT\, 05101
CATEGORIES:Community Meals
END:VEVENT
BEGIN:VEVENT
DTSTART;TZID=America/New_York:20260224T120000
DTEND;TZID=America/New_York:20260224T130000
DTSTAMP:20260426T002420
CREATED:20250103T142749Z
LAST-MODIFIED:20250228T182022Z
UID:10001272-1771934400-1771938000@www.seniorsolutionsvt.org
SUMMARY:Saxtons River Community Meal
DESCRIPTION:
URL:https://www.seniorsolutionsvt.org/event/saxtons-river-communitymeal/2026-02-24/
LOCATION:Main Street Arts\, 35 Main Street\, Saxtons River\, VT\, 05154
CATEGORIES:Community Meals
END:VEVENT
BEGIN:VEVENT
DTSTART;TZID=America/New_York:20260224T120000
DTEND;TZID=America/New_York:20260224T130000
DTSTAMP:20260426T002420
CREATED:20250103T142737Z
LAST-MODIFIED:20250221T222239Z
UID:10005065-1771934400-1771938000@www.seniorsolutionsvt.org
SUMMARY:Woodstock Community Meal
DESCRIPTION:
URL:https://www.seniorsolutionsvt.org/event/woodstock-community-meal/2026-02-24/
LOCATION:Thompson Senior Center\, 99 Senior Lane\, Woodstock\, VT\, 05091
CATEGORIES:Community Meals
END:VEVENT
BEGIN:VEVENT
DTSTART;TZID=America/New_York:20260224T120000
DTEND;TZID=America/New_York:20260224T130000
DTSTAMP:20260426T002420
CREATED:20250103T142737Z
LAST-MODIFIED:20250221T222254Z
UID:10006423-1771934400-1771938000@www.seniorsolutionsvt.org
SUMMARY:Hartford Community Meal
DESCRIPTION:
URL:https://www.seniorsolutionsvt.org/event/hartford-community-meal/2026-02-24/
LOCATION:Bugbee Senior Center\, 262 North Main St\, White River Junction\, VT\, 05001
CATEGORIES:Community Meals
END:VEVENT
BEGIN:VEVENT
DTSTART;TZID=America/New_York:20260224T120000
DTEND;TZID=America/New_York:20260224T130000
DTSTAMP:20260426T002420
CREATED:20250103T142553Z
LAST-MODIFIED:20250221T222220Z
UID:10003707-1771934400-1771938000@www.seniorsolutionsvt.org
SUMMARY:Brattleboro Senior Meal
DESCRIPTION:
URL:https://www.seniorsolutionsvt.org/event/brattleboro-senior-meal/2026-02-24/
LOCATION:Gibson-Aiken Center\, 207 Main Street\, Brattleboro\, VT\, 05301
CATEGORIES:Community Meals
END:VEVENT
BEGIN:VEVENT
DTSTART;TZID=America/New_York:20260225T113000
DTEND;TZID=America/New_York:20260225T123000
DTSTAMP:20260426T002420
CREATED:20250103T142555Z
LAST-MODIFIED:20250221T222206Z
UID:10002350-1772019000-1772022600@www.seniorsolutionsvt.org
SUMMARY:Bellows Falls Community Meal
DESCRIPTION:
URL:https://www.seniorsolutionsvt.org/event/bellows-falls-community-meal/2026-02-25/
LOCATION:Bellows Falls Senior Center\, 18 Tuttle Street\, Bellows Falls\, VT\, 05101
CATEGORIES:Community Meals
END:VEVENT
END:VCALENDAR