BEGIN:VCALENDAR
VERSION:2.0
PRODID:-//Senior Solutions - ECPv6.15.20//NONSGML v1.0//EN
CALSCALE:GREGORIAN
METHOD:PUBLISH
X-ORIGINAL-URL:https://www.seniorsolutionsvt.org
X-WR-CALDESC:Events for Senior Solutions
REFRESH-INTERVAL;VALUE=DURATION:PT1H
X-Robots-Tag:noindex
X-PUBLISHED-TTL:PT1H
BEGIN:VTIMEZONE
TZID:America/New_York
BEGIN:DAYLIGHT
TZOFFSETFROM:-0500
TZOFFSETTO:-0400
TZNAME:EDT
DTSTART:20250309T070000
END:DAYLIGHT
BEGIN:STANDARD
TZOFFSETFROM:-0400
TZOFFSETTO:-0500
TZNAME:EST
DTSTART:20251102T060000
END:STANDARD
BEGIN:DAYLIGHT
TZOFFSETFROM:-0500
TZOFFSETTO:-0400
TZNAME:EDT
DTSTART:20260308T070000
END:DAYLIGHT
BEGIN:STANDARD
TZOFFSETFROM:-0400
TZOFFSETTO:-0500
TZNAME:EST
DTSTART:20261101T060000
END:STANDARD
BEGIN:DAYLIGHT
TZOFFSETFROM:-0500
TZOFFSETTO:-0400
TZNAME:EDT
DTSTART:20270314T070000
END:DAYLIGHT
BEGIN:STANDARD
TZOFFSETFROM:-0400
TZOFFSETTO:-0500
TZNAME:EST
DTSTART:20271107T060000
END:STANDARD
END:VTIMEZONE
BEGIN:VEVENT
DTSTART;TZID=America/New_York:20260128T120000
DTEND;TZID=America/New_York:20260128T130000
DTSTAMP:20260426T002501
CREATED:20250103T142737Z
LAST-MODIFIED:20250221T222254Z
UID:10006404-1769601600-1769605200@www.seniorsolutionsvt.org
SUMMARY:Hartford Community Meal
DESCRIPTION:
URL:https://www.seniorsolutionsvt.org/event/hartford-community-meal/2026-01-28/
LOCATION:Bugbee Senior Center\, 262 North Main St\, White River Junction\, VT\, 05001
CATEGORIES:Community Meals
END:VEVENT
BEGIN:VEVENT
DTSTART;TZID=America/New_York:20260128T120000
DTEND;TZID=America/New_York:20260128T130000
DTSTAMP:20260426T002501
CREATED:20250103T142553Z
LAST-MODIFIED:20250221T222220Z
UID:10003688-1769601600-1769605200@www.seniorsolutionsvt.org
SUMMARY:Brattleboro Senior Meal
DESCRIPTION:
URL:https://www.seniorsolutionsvt.org/event/brattleboro-senior-meal/2026-01-28/
LOCATION:Gibson-Aiken Center\, 207 Main Street\, Brattleboro\, VT\, 05301
CATEGORIES:Community Meals
END:VEVENT
BEGIN:VEVENT
DTSTART;TZID=America/New_York:20260128T120000
DTEND;TZID=America/New_York:20260128T130000
DTSTAMP:20260426T002501
CREATED:20250103T142552Z
LAST-MODIFIED:20250221T220926Z
UID:10000604-1769601600-1769605200@www.seniorsolutionsvt.org
SUMMARY:Dummerston Community Meal
DESCRIPTION:
URL:https://www.seniorsolutionsvt.org/event/dummerston-community-meal/2026-01-28/
LOCATION:Evening Star Grange\, 1008 East-West Road\, Dummerston\, VT\, 05346
CATEGORIES:Community Meals
END:VEVENT
BEGIN:VEVENT
DTSTART;TZID=America/New_York:20260129T113000
DTEND;TZID=America/New_York:20260129T123000
DTSTAMP:20260426T002501
CREATED:20250103T142555Z
LAST-MODIFIED:20250221T222206Z
UID:10002331-1769686200-1769689800@www.seniorsolutionsvt.org
SUMMARY:Bellows Falls Community Meal
DESCRIPTION:
URL:https://www.seniorsolutionsvt.org/event/bellows-falls-community-meal/2026-01-29/
LOCATION:Bellows Falls Senior Center\, 18 Tuttle Street\, Bellows Falls\, VT\, 05101
CATEGORIES:Community Meals
END:VEVENT
BEGIN:VEVENT
DTSTART;TZID=America/New_York:20260129T120000
DTEND;TZID=America/New_York:20260129T130000
DTSTAMP:20260426T002501
CREATED:20250103T142737Z
LAST-MODIFIED:20250221T222239Z
UID:10005047-1769688000-1769691600@www.seniorsolutionsvt.org
SUMMARY:Woodstock Community Meal
DESCRIPTION:
URL:https://www.seniorsolutionsvt.org/event/woodstock-community-meal/2026-01-29/
LOCATION:Thompson Senior Center\, 99 Senior Lane\, Woodstock\, VT\, 05091
CATEGORIES:Community Meals
END:VEVENT
BEGIN:VEVENT
DTSTART;TZID=America/New_York:20260129T120000
DTEND;TZID=America/New_York:20260129T130000
DTSTAMP:20260426T002501
CREATED:20250103T142737Z
LAST-MODIFIED:20250221T222254Z
UID:10006405-1769688000-1769691600@www.seniorsolutionsvt.org
SUMMARY:Hartford Community Meal
DESCRIPTION:
URL:https://www.seniorsolutionsvt.org/event/hartford-community-meal/2026-01-29/
LOCATION:Bugbee Senior Center\, 262 North Main St\, White River Junction\, VT\, 05001
CATEGORIES:Community Meals
END:VEVENT
BEGIN:VEVENT
DTSTART;TZID=America/New_York:20260129T120000
DTEND;TZID=America/New_York:20260129T130000
DTSTAMP:20260426T002501
CREATED:20250103T142553Z
LAST-MODIFIED:20250221T222220Z
UID:10003689-1769688000-1769691600@www.seniorsolutionsvt.org
SUMMARY:Brattleboro Senior Meal
DESCRIPTION:
URL:https://www.seniorsolutionsvt.org/event/brattleboro-senior-meal/2026-01-29/
LOCATION:Gibson-Aiken Center\, 207 Main Street\, Brattleboro\, VT\, 05301
CATEGORIES:Community Meals
END:VEVENT
BEGIN:VEVENT
DTSTART;TZID=America/New_York:20260130T113000
DTEND;TZID=America/New_York:20260130T123000
DTSTAMP:20260426T002501
CREATED:20250103T142555Z
LAST-MODIFIED:20250221T222206Z
UID:10002332-1769772600-1769776200@www.seniorsolutionsvt.org
SUMMARY:Bellows Falls Community Meal
DESCRIPTION:
URL:https://www.seniorsolutionsvt.org/event/bellows-falls-community-meal/2026-01-30/
LOCATION:Bellows Falls Senior Center\, 18 Tuttle Street\, Bellows Falls\, VT\, 05101
CATEGORIES:Community Meals
END:VEVENT
BEGIN:VEVENT
DTSTART;TZID=America/New_York:20260130T120000
DTEND;TZID=America/New_York:20260130T130000
DTSTAMP:20260426T002501
CREATED:20250103T142737Z
LAST-MODIFIED:20250221T222239Z
UID:10005048-1769774400-1769778000@www.seniorsolutionsvt.org
SUMMARY:Woodstock Community Meal
DESCRIPTION:
URL:https://www.seniorsolutionsvt.org/event/woodstock-community-meal/2026-01-30/
LOCATION:Thompson Senior Center\, 99 Senior Lane\, Woodstock\, VT\, 05091
CATEGORIES:Community Meals
END:VEVENT
BEGIN:VEVENT
DTSTART;TZID=America/New_York:20260130T120000
DTEND;TZID=America/New_York:20260130T130000
DTSTAMP:20260426T002501
CREATED:20250103T142737Z
LAST-MODIFIED:20250221T222254Z
UID:10006406-1769774400-1769778000@www.seniorsolutionsvt.org
SUMMARY:Hartford Community Meal
DESCRIPTION:
URL:https://www.seniorsolutionsvt.org/event/hartford-community-meal/2026-01-30/
LOCATION:Bugbee Senior Center\, 262 North Main St\, White River Junction\, VT\, 05001
CATEGORIES:Community Meals
END:VEVENT
BEGIN:VEVENT
DTSTART;TZID=America/New_York:20260130T120000
DTEND;TZID=America/New_York:20260130T130000
DTSTAMP:20260426T002501
CREATED:20250103T142553Z
LAST-MODIFIED:20250221T222220Z
UID:10003690-1769774400-1769778000@www.seniorsolutionsvt.org
SUMMARY:Brattleboro Senior Meal
DESCRIPTION:
URL:https://www.seniorsolutionsvt.org/event/brattleboro-senior-meal/2026-01-30/
LOCATION:Gibson-Aiken Center\, 207 Main Street\, Brattleboro\, VT\, 05301
CATEGORIES:Community Meals
END:VEVENT
BEGIN:VEVENT
DTSTART;TZID=America/New_York:20260202T113000
DTEND;TZID=America/New_York:20260202T123000
DTSTAMP:20260426T002501
CREATED:20250103T142555Z
LAST-MODIFIED:20250221T222206Z
UID:10002333-1770031800-1770035400@www.seniorsolutionsvt.org
SUMMARY:Bellows Falls Community Meal
DESCRIPTION:
URL:https://www.seniorsolutionsvt.org/event/bellows-falls-community-meal/2026-02-02/
LOCATION:Bellows Falls Senior Center\, 18 Tuttle Street\, Bellows Falls\, VT\, 05101
CATEGORIES:Community Meals
END:VEVENT
BEGIN:VEVENT
DTSTART;TZID=America/New_York:20260202T120000
DTEND;TZID=America/New_York:20260202T130000
DTSTAMP:20260426T002501
CREATED:20250103T142737Z
LAST-MODIFIED:20250221T222239Z
UID:10005049-1770033600-1770037200@www.seniorsolutionsvt.org
SUMMARY:Woodstock Community Meal
DESCRIPTION:
URL:https://www.seniorsolutionsvt.org/event/woodstock-community-meal/2026-02-02/
LOCATION:Thompson Senior Center\, 99 Senior Lane\, Woodstock\, VT\, 05091
CATEGORIES:Community Meals
END:VEVENT
BEGIN:VEVENT
DTSTART;TZID=America/New_York:20260202T120000
DTEND;TZID=America/New_York:20260202T130000
DTSTAMP:20260426T002501
CREATED:20250103T142737Z
LAST-MODIFIED:20250221T222254Z
UID:10006407-1770033600-1770037200@www.seniorsolutionsvt.org
SUMMARY:Hartford Community Meal
DESCRIPTION:
URL:https://www.seniorsolutionsvt.org/event/hartford-community-meal/2026-02-02/
LOCATION:Bugbee Senior Center\, 262 North Main St\, White River Junction\, VT\, 05001
CATEGORIES:Community Meals
END:VEVENT
BEGIN:VEVENT
DTSTART;TZID=America/New_York:20260202T120000
DTEND;TZID=America/New_York:20260202T130000
DTSTAMP:20260426T002501
CREATED:20250103T142553Z
LAST-MODIFIED:20250221T222220Z
UID:10003691-1770033600-1770037200@www.seniorsolutionsvt.org
SUMMARY:Brattleboro Senior Meal
DESCRIPTION:
URL:https://www.seniorsolutionsvt.org/event/brattleboro-senior-meal/2026-02-02/
LOCATION:Gibson-Aiken Center\, 207 Main Street\, Brattleboro\, VT\, 05301
CATEGORIES:Community Meals
END:VEVENT
BEGIN:VEVENT
DTSTART;TZID=America/New_York:20260203T113000
DTEND;TZID=America/New_York:20260203T123000
DTSTAMP:20260426T002501
CREATED:20250103T142555Z
LAST-MODIFIED:20250221T222206Z
UID:10002334-1770118200-1770121800@www.seniorsolutionsvt.org
SUMMARY:Bellows Falls Community Meal
DESCRIPTION:
URL:https://www.seniorsolutionsvt.org/event/bellows-falls-community-meal/2026-02-03/
LOCATION:Bellows Falls Senior Center\, 18 Tuttle Street\, Bellows Falls\, VT\, 05101
CATEGORIES:Community Meals
END:VEVENT
BEGIN:VEVENT
DTSTART;TZID=America/New_York:20260203T120000
DTEND;TZID=America/New_York:20260203T130000
DTSTAMP:20260426T002501
CREATED:20250103T142749Z
LAST-MODIFIED:20250228T182022Z
UID:10001269-1770120000-1770123600@www.seniorsolutionsvt.org
SUMMARY:Saxtons River Community Meal
DESCRIPTION:
URL:https://www.seniorsolutionsvt.org/event/saxtons-river-communitymeal/2026-02-03/
LOCATION:Main Street Arts\, 35 Main Street\, Saxtons River\, VT\, 05154
CATEGORIES:Community Meals
END:VEVENT
BEGIN:VEVENT
DTSTART;TZID=America/New_York:20260203T120000
DTEND;TZID=America/New_York:20260203T130000
DTSTAMP:20260426T002501
CREATED:20250103T142737Z
LAST-MODIFIED:20250221T222239Z
UID:10005050-1770120000-1770123600@www.seniorsolutionsvt.org
SUMMARY:Woodstock Community Meal
DESCRIPTION:
URL:https://www.seniorsolutionsvt.org/event/woodstock-community-meal/2026-02-03/
LOCATION:Thompson Senior Center\, 99 Senior Lane\, Woodstock\, VT\, 05091
CATEGORIES:Community Meals
END:VEVENT
BEGIN:VEVENT
DTSTART;TZID=America/New_York:20260203T120000
DTEND;TZID=America/New_York:20260203T130000
DTSTAMP:20260426T002501
CREATED:20250103T142737Z
LAST-MODIFIED:20250221T222254Z
UID:10006408-1770120000-1770123600@www.seniorsolutionsvt.org
SUMMARY:Hartford Community Meal
DESCRIPTION:
URL:https://www.seniorsolutionsvt.org/event/hartford-community-meal/2026-02-03/
LOCATION:Bugbee Senior Center\, 262 North Main St\, White River Junction\, VT\, 05001
CATEGORIES:Community Meals
END:VEVENT
BEGIN:VEVENT
DTSTART;TZID=America/New_York:20260203T120000
DTEND;TZID=America/New_York:20260203T130000
DTSTAMP:20260426T002501
CREATED:20250103T142656Z
LAST-MODIFIED:20250221T221357Z
UID:10001555-1770120000-1770123600@www.seniorsolutionsvt.org
SUMMARY:Weston Community Meal
DESCRIPTION:
URL:https://www.seniorsolutionsvt.org/event/weston-community-meal/2026-02-03/
LOCATION:The Hub\, 705 Main Street\, Weston\, VT\, 05161
CATEGORIES:Community Meals
END:VEVENT
BEGIN:VEVENT
DTSTART;TZID=America/New_York:20260203T120000
DTEND;TZID=America/New_York:20260203T130000
DTSTAMP:20260426T002501
CREATED:20250103T142656Z
LAST-MODIFIED:20250221T221431Z
UID:10001617-1770120000-1770123600@www.seniorsolutionsvt.org
SUMMARY:Whitingham Community Meal
DESCRIPTION:
URL:https://www.seniorsolutionsvt.org/event/whitingham-community-meal/2026-02-03/
LOCATION:Municipal Center Whitingham\, 2948 VT Route 100\, Jacksonville\, VT\, 05342
CATEGORIES:Community Meals
END:VEVENT
BEGIN:VEVENT
DTSTART;TZID=America/New_York:20260203T120000
DTEND;TZID=America/New_York:20260203T130000
DTSTAMP:20260426T002501
CREATED:20250103T142553Z
LAST-MODIFIED:20250221T222220Z
UID:10003692-1770120000-1770123600@www.seniorsolutionsvt.org
SUMMARY:Brattleboro Senior Meal
DESCRIPTION:
URL:https://www.seniorsolutionsvt.org/event/brattleboro-senior-meal/2026-02-03/
LOCATION:Gibson-Aiken Center\, 207 Main Street\, Brattleboro\, VT\, 05301
CATEGORIES:Community Meals
END:VEVENT
BEGIN:VEVENT
DTSTART;TZID=America/New_York:20260204T113000
DTEND;TZID=America/New_York:20260204T123000
DTSTAMP:20260426T002501
CREATED:20250103T142555Z
LAST-MODIFIED:20250221T222206Z
UID:10002335-1770204600-1770208200@www.seniorsolutionsvt.org
SUMMARY:Bellows Falls Community Meal
DESCRIPTION:
URL:https://www.seniorsolutionsvt.org/event/bellows-falls-community-meal/2026-02-04/
LOCATION:Bellows Falls Senior Center\, 18 Tuttle Street\, Bellows Falls\, VT\, 05101
CATEGORIES:Community Meals
END:VEVENT
BEGIN:VEVENT
DTSTART;TZID=America/New_York:20260204T120000
DTEND;TZID=America/New_York:20260204T130000
DTSTAMP:20260426T002501
CREATED:20250103T142737Z
LAST-MODIFIED:20250221T222239Z
UID:10005051-1770206400-1770210000@www.seniorsolutionsvt.org
SUMMARY:Woodstock Community Meal
DESCRIPTION:
URL:https://www.seniorsolutionsvt.org/event/woodstock-community-meal/2026-02-04/
LOCATION:Thompson Senior Center\, 99 Senior Lane\, Woodstock\, VT\, 05091
CATEGORIES:Community Meals
END:VEVENT
BEGIN:VEVENT
DTSTART;TZID=America/New_York:20260204T120000
DTEND;TZID=America/New_York:20260204T130000
DTSTAMP:20260426T002501
CREATED:20250103T142737Z
LAST-MODIFIED:20250221T222254Z
UID:10006409-1770206400-1770210000@www.seniorsolutionsvt.org
SUMMARY:Hartford Community Meal
DESCRIPTION:
URL:https://www.seniorsolutionsvt.org/event/hartford-community-meal/2026-02-04/
LOCATION:Bugbee Senior Center\, 262 North Main St\, White River Junction\, VT\, 05001
CATEGORIES:Community Meals
END:VEVENT
BEGIN:VEVENT
DTSTART;TZID=America/New_York:20260204T120000
DTEND;TZID=America/New_York:20260204T130000
DTSTAMP:20260426T002501
CREATED:20250103T142553Z
LAST-MODIFIED:20250221T222220Z
UID:10003693-1770206400-1770210000@www.seniorsolutionsvt.org
SUMMARY:Brattleboro Senior Meal
DESCRIPTION:
URL:https://www.seniorsolutionsvt.org/event/brattleboro-senior-meal/2026-02-04/
LOCATION:Gibson-Aiken Center\, 207 Main Street\, Brattleboro\, VT\, 05301
CATEGORIES:Community Meals
END:VEVENT
BEGIN:VEVENT
DTSTART;TZID=America/New_York:20260204T150000
DTEND;TZID=America/New_York:20260204T170000
DTSTAMP:20260426T002501
CREATED:20251010T135904Z
LAST-MODIFIED:20251010T135904Z
UID:10009916-1770217200-1770224400@www.seniorsolutionsvt.org
SUMMARY:South Londonderry
DESCRIPTION:First Wednesday of every month at 3:00 pm\, Senior Lunch and Bingo
URL:https://www.seniorsolutionsvt.org/event/south-londonderry/2026-02-04/
LOCATION:Smith Haven Apartments\, Smith Haven Lane\, South Londonderry\, VT\, United States
CATEGORIES:Community Meals
END:VEVENT
BEGIN:VEVENT
DTSTART;TZID=America/New_York:20260205T113000
DTEND;TZID=America/New_York:20260205T123000
DTSTAMP:20260426T002501
CREATED:20250103T142555Z
LAST-MODIFIED:20250221T222206Z
UID:10002336-1770291000-1770294600@www.seniorsolutionsvt.org
SUMMARY:Bellows Falls Community Meal
DESCRIPTION:
URL:https://www.seniorsolutionsvt.org/event/bellows-falls-community-meal/2026-02-05/
LOCATION:Bellows Falls Senior Center\, 18 Tuttle Street\, Bellows Falls\, VT\, 05101
CATEGORIES:Community Meals
END:VEVENT
BEGIN:VEVENT
DTSTART;TZID=America/New_York:20260205T120000
DTEND;TZID=America/New_York:20260205T130000
DTSTAMP:20260426T002501
CREATED:20250103T142737Z
LAST-MODIFIED:20250221T222239Z
UID:10005052-1770292800-1770296400@www.seniorsolutionsvt.org
SUMMARY:Woodstock Community Meal
DESCRIPTION:
URL:https://www.seniorsolutionsvt.org/event/woodstock-community-meal/2026-02-05/
LOCATION:Thompson Senior Center\, 99 Senior Lane\, Woodstock\, VT\, 05091
CATEGORIES:Community Meals
END:VEVENT
BEGIN:VEVENT
DTSTART;TZID=America/New_York:20260205T120000
DTEND;TZID=America/New_York:20260205T130000
DTSTAMP:20260426T002501
CREATED:20250103T142737Z
LAST-MODIFIED:20250221T222254Z
UID:10006410-1770292800-1770296400@www.seniorsolutionsvt.org
SUMMARY:Hartford Community Meal
DESCRIPTION:
URL:https://www.seniorsolutionsvt.org/event/hartford-community-meal/2026-02-05/
LOCATION:Bugbee Senior Center\, 262 North Main St\, White River Junction\, VT\, 05001
CATEGORIES:Community Meals
END:VEVENT
END:VCALENDAR