BEGIN:VCALENDAR
VERSION:2.0
PRODID:-//Senior Solutions - ECPv6.15.20//NONSGML v1.0//EN
CALSCALE:GREGORIAN
METHOD:PUBLISH
X-ORIGINAL-URL:https://www.seniorsolutionsvt.org
X-WR-CALDESC:Events for Senior Solutions
REFRESH-INTERVAL;VALUE=DURATION:PT1H
X-Robots-Tag:noindex
X-PUBLISHED-TTL:PT1H
BEGIN:VTIMEZONE
TZID:America/New_York
BEGIN:DAYLIGHT
TZOFFSETFROM:-0500
TZOFFSETTO:-0400
TZNAME:EDT
DTSTART:20250309T070000
END:DAYLIGHT
BEGIN:STANDARD
TZOFFSETFROM:-0400
TZOFFSETTO:-0500
TZNAME:EST
DTSTART:20251102T060000
END:STANDARD
BEGIN:DAYLIGHT
TZOFFSETFROM:-0500
TZOFFSETTO:-0400
TZNAME:EDT
DTSTART:20260308T070000
END:DAYLIGHT
BEGIN:STANDARD
TZOFFSETFROM:-0400
TZOFFSETTO:-0500
TZNAME:EST
DTSTART:20261101T060000
END:STANDARD
BEGIN:DAYLIGHT
TZOFFSETFROM:-0500
TZOFFSETTO:-0400
TZNAME:EDT
DTSTART:20270314T070000
END:DAYLIGHT
BEGIN:STANDARD
TZOFFSETFROM:-0400
TZOFFSETTO:-0500
TZNAME:EST
DTSTART:20271107T060000
END:STANDARD
END:VTIMEZONE
BEGIN:VEVENT
DTSTART;TZID=America/New_York:20260302T113000
DTEND;TZID=America/New_York:20260302T123000
DTSTAMP:20260425T084753
CREATED:20250103T142555Z
LAST-MODIFIED:20250221T222206Z
UID:10002353-1772451000-1772454600@www.seniorsolutionsvt.org
SUMMARY:Bellows Falls Community Meal
DESCRIPTION:
URL:https://www.seniorsolutionsvt.org/event/bellows-falls-community-meal/2026-03-02/
LOCATION:Bellows Falls Senior Center\, 18 Tuttle Street\, Bellows Falls\, VT\, 05101
CATEGORIES:Community Meals
END:VEVENT
BEGIN:VEVENT
DTSTART;TZID=America/New_York:20260302T120000
DTEND;TZID=America/New_York:20260302T130000
DTSTAMP:20260425T084753
CREATED:20250103T142737Z
LAST-MODIFIED:20250221T222239Z
UID:10005069-1772452800-1772456400@www.seniorsolutionsvt.org
SUMMARY:Woodstock Community Meal
DESCRIPTION:
URL:https://www.seniorsolutionsvt.org/event/woodstock-community-meal/2026-03-02/
LOCATION:Thompson Senior Center\, 99 Senior Lane\, Woodstock\, VT\, 05091
CATEGORIES:Community Meals
END:VEVENT
BEGIN:VEVENT
DTSTART;TZID=America/New_York:20260302T120000
DTEND;TZID=America/New_York:20260302T130000
DTSTAMP:20260425T084753
CREATED:20250103T142737Z
LAST-MODIFIED:20250221T222254Z
UID:10006427-1772452800-1772456400@www.seniorsolutionsvt.org
SUMMARY:Hartford Community Meal
DESCRIPTION:
URL:https://www.seniorsolutionsvt.org/event/hartford-community-meal/2026-03-02/
LOCATION:Bugbee Senior Center\, 262 North Main St\, White River Junction\, VT\, 05001
CATEGORIES:Community Meals
END:VEVENT
BEGIN:VEVENT
DTSTART;TZID=America/New_York:20260302T120000
DTEND;TZID=America/New_York:20260302T130000
DTSTAMP:20260425T084753
CREATED:20250103T142553Z
LAST-MODIFIED:20250221T222220Z
UID:10003711-1772452800-1772456400@www.seniorsolutionsvt.org
SUMMARY:Brattleboro Senior Meal
DESCRIPTION:
URL:https://www.seniorsolutionsvt.org/event/brattleboro-senior-meal/2026-03-02/
LOCATION:Gibson-Aiken Center\, 207 Main Street\, Brattleboro\, VT\, 05301
CATEGORIES:Community Meals
END:VEVENT
BEGIN:VEVENT
DTSTART;TZID=America/New_York:20260303T113000
DTEND;TZID=America/New_York:20260303T123000
DTSTAMP:20260425T084753
CREATED:20250103T142555Z
LAST-MODIFIED:20250221T222206Z
UID:10002354-1772537400-1772541000@www.seniorsolutionsvt.org
SUMMARY:Bellows Falls Community Meal
DESCRIPTION:
URL:https://www.seniorsolutionsvt.org/event/bellows-falls-community-meal/2026-03-03/
LOCATION:Bellows Falls Senior Center\, 18 Tuttle Street\, Bellows Falls\, VT\, 05101
CATEGORIES:Community Meals
END:VEVENT
BEGIN:VEVENT
DTSTART;TZID=America/New_York:20260303T120000
DTEND;TZID=America/New_York:20260303T130000
DTSTAMP:20260425T084753
CREATED:20250103T142749Z
LAST-MODIFIED:20250228T182022Z
UID:10001273-1772539200-1772542800@www.seniorsolutionsvt.org
SUMMARY:Saxtons River Community Meal
DESCRIPTION:
URL:https://www.seniorsolutionsvt.org/event/saxtons-river-communitymeal/2026-03-03/
LOCATION:Main Street Arts\, 35 Main Street\, Saxtons River\, VT\, 05154
CATEGORIES:Community Meals
END:VEVENT
BEGIN:VEVENT
DTSTART;TZID=America/New_York:20260303T120000
DTEND;TZID=America/New_York:20260303T130000
DTSTAMP:20260425T084753
CREATED:20250103T142737Z
LAST-MODIFIED:20250221T222239Z
UID:10005070-1772539200-1772542800@www.seniorsolutionsvt.org
SUMMARY:Woodstock Community Meal
DESCRIPTION:
URL:https://www.seniorsolutionsvt.org/event/woodstock-community-meal/2026-03-03/
LOCATION:Thompson Senior Center\, 99 Senior Lane\, Woodstock\, VT\, 05091
CATEGORIES:Community Meals
END:VEVENT
BEGIN:VEVENT
DTSTART;TZID=America/New_York:20260303T120000
DTEND;TZID=America/New_York:20260303T130000
DTSTAMP:20260425T084753
CREATED:20250103T142737Z
LAST-MODIFIED:20250221T222254Z
UID:10006428-1772539200-1772542800@www.seniorsolutionsvt.org
SUMMARY:Hartford Community Meal
DESCRIPTION:
URL:https://www.seniorsolutionsvt.org/event/hartford-community-meal/2026-03-03/
LOCATION:Bugbee Senior Center\, 262 North Main St\, White River Junction\, VT\, 05001
CATEGORIES:Community Meals
END:VEVENT
BEGIN:VEVENT
DTSTART;TZID=America/New_York:20260303T120000
DTEND;TZID=America/New_York:20260303T130000
DTSTAMP:20260425T084753
CREATED:20250103T142656Z
LAST-MODIFIED:20250221T221357Z
UID:10001556-1772539200-1772542800@www.seniorsolutionsvt.org
SUMMARY:Weston Community Meal
DESCRIPTION:
URL:https://www.seniorsolutionsvt.org/event/weston-community-meal/2026-03-03/
LOCATION:The Hub\, 705 Main Street\, Weston\, VT\, 05161
CATEGORIES:Community Meals
END:VEVENT
BEGIN:VEVENT
DTSTART;TZID=America/New_York:20260303T120000
DTEND;TZID=America/New_York:20260303T130000
DTSTAMP:20260425T084753
CREATED:20250103T142656Z
LAST-MODIFIED:20250221T221431Z
UID:10001618-1772539200-1772542800@www.seniorsolutionsvt.org
SUMMARY:Whitingham Community Meal
DESCRIPTION:
URL:https://www.seniorsolutionsvt.org/event/whitingham-community-meal/2026-03-03/
LOCATION:Municipal Center Whitingham\, 2948 VT Route 100\, Jacksonville\, VT\, 05342
CATEGORIES:Community Meals
END:VEVENT
BEGIN:VEVENT
DTSTART;TZID=America/New_York:20260303T120000
DTEND;TZID=America/New_York:20260303T130000
DTSTAMP:20260425T084753
CREATED:20250103T142553Z
LAST-MODIFIED:20250221T222220Z
UID:10003712-1772539200-1772542800@www.seniorsolutionsvt.org
SUMMARY:Brattleboro Senior Meal
DESCRIPTION:
URL:https://www.seniorsolutionsvt.org/event/brattleboro-senior-meal/2026-03-03/
LOCATION:Gibson-Aiken Center\, 207 Main Street\, Brattleboro\, VT\, 05301
CATEGORIES:Community Meals
END:VEVENT
BEGIN:VEVENT
DTSTART;TZID=America/New_York:20260304T113000
DTEND;TZID=America/New_York:20260304T123000
DTSTAMP:20260425T084753
CREATED:20250103T142555Z
LAST-MODIFIED:20250221T222206Z
UID:10002355-1772623800-1772627400@www.seniorsolutionsvt.org
SUMMARY:Bellows Falls Community Meal
DESCRIPTION:
URL:https://www.seniorsolutionsvt.org/event/bellows-falls-community-meal/2026-03-04/
LOCATION:Bellows Falls Senior Center\, 18 Tuttle Street\, Bellows Falls\, VT\, 05101
CATEGORIES:Community Meals
END:VEVENT
BEGIN:VEVENT
DTSTART;TZID=America/New_York:20260304T120000
DTEND;TZID=America/New_York:20260304T130000
DTSTAMP:20260425T084753
CREATED:20250103T142737Z
LAST-MODIFIED:20250221T222239Z
UID:10005071-1772625600-1772629200@www.seniorsolutionsvt.org
SUMMARY:Woodstock Community Meal
DESCRIPTION:
URL:https://www.seniorsolutionsvt.org/event/woodstock-community-meal/2026-03-04/
LOCATION:Thompson Senior Center\, 99 Senior Lane\, Woodstock\, VT\, 05091
CATEGORIES:Community Meals
END:VEVENT
BEGIN:VEVENT
DTSTART;TZID=America/New_York:20260304T120000
DTEND;TZID=America/New_York:20260304T130000
DTSTAMP:20260425T084753
CREATED:20250103T142737Z
LAST-MODIFIED:20250221T222254Z
UID:10006429-1772625600-1772629200@www.seniorsolutionsvt.org
SUMMARY:Hartford Community Meal
DESCRIPTION:
URL:https://www.seniorsolutionsvt.org/event/hartford-community-meal/2026-03-04/
LOCATION:Bugbee Senior Center\, 262 North Main St\, White River Junction\, VT\, 05001
CATEGORIES:Community Meals
END:VEVENT
BEGIN:VEVENT
DTSTART;TZID=America/New_York:20260304T120000
DTEND;TZID=America/New_York:20260304T130000
DTSTAMP:20260425T084753
CREATED:20250103T142553Z
LAST-MODIFIED:20250221T222220Z
UID:10003713-1772625600-1772629200@www.seniorsolutionsvt.org
SUMMARY:Brattleboro Senior Meal
DESCRIPTION:
URL:https://www.seniorsolutionsvt.org/event/brattleboro-senior-meal/2026-03-04/
LOCATION:Gibson-Aiken Center\, 207 Main Street\, Brattleboro\, VT\, 05301
CATEGORIES:Community Meals
END:VEVENT
BEGIN:VEVENT
DTSTART;TZID=America/New_York:20260304T150000
DTEND;TZID=America/New_York:20260304T170000
DTSTAMP:20260425T084753
CREATED:20251010T135904Z
LAST-MODIFIED:20251010T135904Z
UID:10009917-1772636400-1772643600@www.seniorsolutionsvt.org
SUMMARY:South Londonderry
DESCRIPTION:First Wednesday of every month at 3:00 pm\, Senior Lunch and Bingo
URL:https://www.seniorsolutionsvt.org/event/south-londonderry/2026-03-04/
LOCATION:Smith Haven Apartments\, Smith Haven Lane\, South Londonderry\, VT\, United States
CATEGORIES:Community Meals
END:VEVENT
BEGIN:VEVENT
DTSTART;TZID=America/New_York:20260305T113000
DTEND;TZID=America/New_York:20260305T123000
DTSTAMP:20260425T084753
CREATED:20250103T142555Z
LAST-MODIFIED:20250221T222206Z
UID:10002356-1772710200-1772713800@www.seniorsolutionsvt.org
SUMMARY:Bellows Falls Community Meal
DESCRIPTION:
URL:https://www.seniorsolutionsvt.org/event/bellows-falls-community-meal/2026-03-05/
LOCATION:Bellows Falls Senior Center\, 18 Tuttle Street\, Bellows Falls\, VT\, 05101
CATEGORIES:Community Meals
END:VEVENT
BEGIN:VEVENT
DTSTART;TZID=America/New_York:20260305T120000
DTEND;TZID=America/New_York:20260305T130000
DTSTAMP:20260425T084753
CREATED:20250103T142737Z
LAST-MODIFIED:20250221T222239Z
UID:10005072-1772712000-1772715600@www.seniorsolutionsvt.org
SUMMARY:Woodstock Community Meal
DESCRIPTION:
URL:https://www.seniorsolutionsvt.org/event/woodstock-community-meal/2026-03-05/
LOCATION:Thompson Senior Center\, 99 Senior Lane\, Woodstock\, VT\, 05091
CATEGORIES:Community Meals
END:VEVENT
BEGIN:VEVENT
DTSTART;TZID=America/New_York:20260305T120000
DTEND;TZID=America/New_York:20260305T130000
DTSTAMP:20260425T084753
CREATED:20250103T142737Z
LAST-MODIFIED:20250221T222254Z
UID:10006430-1772712000-1772715600@www.seniorsolutionsvt.org
SUMMARY:Hartford Community Meal
DESCRIPTION:
URL:https://www.seniorsolutionsvt.org/event/hartford-community-meal/2026-03-05/
LOCATION:Bugbee Senior Center\, 262 North Main St\, White River Junction\, VT\, 05001
CATEGORIES:Community Meals
END:VEVENT
BEGIN:VEVENT
DTSTART;TZID=America/New_York:20260305T120000
DTEND;TZID=America/New_York:20260305T130000
DTSTAMP:20260425T084753
CREATED:20250103T142737Z
LAST-MODIFIED:20250221T221436Z
UID:10001680-1772712000-1772715600@www.seniorsolutionsvt.org
SUMMARY:Whitingham Community Meal
DESCRIPTION:
URL:https://www.seniorsolutionsvt.org/event/whitingham-community-meal-2/2026-03-05/
LOCATION:Municipal Center Whitingham\, 2948 VT Route 100\, Jacksonville\, VT\, 05342
CATEGORIES:Community Meals
END:VEVENT
BEGIN:VEVENT
DTSTART;TZID=America/New_York:20260305T120000
DTEND;TZID=America/New_York:20260305T130000
DTSTAMP:20260425T084753
CREATED:20250103T142737Z
LAST-MODIFIED:20250221T221139Z
UID:10000976-1772712000-1772715600@www.seniorsolutionsvt.org
SUMMARY:Ludlow Community Meal
DESCRIPTION:
URL:https://www.seniorsolutionsvt.org/event/ludlow-community-meal/2026-03-05/
LOCATION:Black River Good Neighbors\, 37B Main Street\, Ludlow\, VT\, 05149
CATEGORIES:Community Meals
END:VEVENT
BEGIN:VEVENT
DTSTART;TZID=America/New_York:20260305T120000
DTEND;TZID=America/New_York:20260305T130000
DTSTAMP:20260425T084753
CREATED:20250103T142553Z
LAST-MODIFIED:20250221T222220Z
UID:10003714-1772712000-1772715600@www.seniorsolutionsvt.org
SUMMARY:Brattleboro Senior Meal
DESCRIPTION:
URL:https://www.seniorsolutionsvt.org/event/brattleboro-senior-meal/2026-03-05/
LOCATION:Gibson-Aiken Center\, 207 Main Street\, Brattleboro\, VT\, 05301
CATEGORIES:Community Meals
END:VEVENT
BEGIN:VEVENT
DTSTART;TZID=America/New_York:20260306T113000
DTEND;TZID=America/New_York:20260306T123000
DTSTAMP:20260425T084753
CREATED:20250103T142555Z
LAST-MODIFIED:20250221T222206Z
UID:10002357-1772796600-1772800200@www.seniorsolutionsvt.org
SUMMARY:Bellows Falls Community Meal
DESCRIPTION:
URL:https://www.seniorsolutionsvt.org/event/bellows-falls-community-meal/2026-03-06/
LOCATION:Bellows Falls Senior Center\, 18 Tuttle Street\, Bellows Falls\, VT\, 05101
CATEGORIES:Community Meals
END:VEVENT
BEGIN:VEVENT
DTSTART;TZID=America/New_York:20260306T120000
DTEND;TZID=America/New_York:20260306T130000
DTSTAMP:20260425T084753
CREATED:20250103T142737Z
LAST-MODIFIED:20250221T222239Z
UID:10005073-1772798400-1772802000@www.seniorsolutionsvt.org
SUMMARY:Woodstock Community Meal
DESCRIPTION:
URL:https://www.seniorsolutionsvt.org/event/woodstock-community-meal/2026-03-06/
LOCATION:Thompson Senior Center\, 99 Senior Lane\, Woodstock\, VT\, 05091
CATEGORIES:Community Meals
END:VEVENT
BEGIN:VEVENT
DTSTART;TZID=America/New_York:20260306T120000
DTEND;TZID=America/New_York:20260306T130000
DTSTAMP:20260425T084753
CREATED:20250103T142737Z
LAST-MODIFIED:20250221T222254Z
UID:10006431-1772798400-1772802000@www.seniorsolutionsvt.org
SUMMARY:Hartford Community Meal
DESCRIPTION:
URL:https://www.seniorsolutionsvt.org/event/hartford-community-meal/2026-03-06/
LOCATION:Bugbee Senior Center\, 262 North Main St\, White River Junction\, VT\, 05001
CATEGORIES:Community Meals
END:VEVENT
BEGIN:VEVENT
DTSTART;TZID=America/New_York:20260306T120000
DTEND;TZID=America/New_York:20260306T130000
DTSTAMP:20260425T084753
CREATED:20250103T142553Z
LAST-MODIFIED:20250221T222220Z
UID:10003715-1772798400-1772802000@www.seniorsolutionsvt.org
SUMMARY:Brattleboro Senior Meal
DESCRIPTION:
URL:https://www.seniorsolutionsvt.org/event/brattleboro-senior-meal/2026-03-06/
LOCATION:Gibson-Aiken Center\, 207 Main Street\, Brattleboro\, VT\, 05301
CATEGORIES:Community Meals
END:VEVENT
BEGIN:VEVENT
DTSTART;TZID=America/New_York:20260309T113000
DTEND;TZID=America/New_York:20260309T123000
DTSTAMP:20260425T084753
CREATED:20250103T142555Z
LAST-MODIFIED:20250221T222206Z
UID:10002358-1773055800-1773059400@www.seniorsolutionsvt.org
SUMMARY:Bellows Falls Community Meal
DESCRIPTION:
URL:https://www.seniorsolutionsvt.org/event/bellows-falls-community-meal/2026-03-09/
LOCATION:Bellows Falls Senior Center\, 18 Tuttle Street\, Bellows Falls\, VT\, 05101
CATEGORIES:Community Meals
END:VEVENT
BEGIN:VEVENT
DTSTART;TZID=America/New_York:20260309T120000
DTEND;TZID=America/New_York:20260309T130000
DTSTAMP:20260425T084753
CREATED:20250103T142737Z
LAST-MODIFIED:20250221T222239Z
UID:10005074-1773057600-1773061200@www.seniorsolutionsvt.org
SUMMARY:Woodstock Community Meal
DESCRIPTION:
URL:https://www.seniorsolutionsvt.org/event/woodstock-community-meal/2026-03-09/
LOCATION:Thompson Senior Center\, 99 Senior Lane\, Woodstock\, VT\, 05091
CATEGORIES:Community Meals
END:VEVENT
BEGIN:VEVENT
DTSTART;TZID=America/New_York:20260309T120000
DTEND;TZID=America/New_York:20260309T130000
DTSTAMP:20260425T084753
CREATED:20250103T142737Z
LAST-MODIFIED:20250221T222254Z
UID:10006432-1773057600-1773061200@www.seniorsolutionsvt.org
SUMMARY:Hartford Community Meal
DESCRIPTION:
URL:https://www.seniorsolutionsvt.org/event/hartford-community-meal/2026-03-09/
LOCATION:Bugbee Senior Center\, 262 North Main St\, White River Junction\, VT\, 05001
CATEGORIES:Community Meals
END:VEVENT
BEGIN:VEVENT
DTSTART;TZID=America/New_York:20260309T120000
DTEND;TZID=America/New_York:20260309T130000
DTSTAMP:20260425T084753
CREATED:20250103T142553Z
LAST-MODIFIED:20250221T222220Z
UID:10003716-1773057600-1773061200@www.seniorsolutionsvt.org
SUMMARY:Brattleboro Senior Meal
DESCRIPTION:
URL:https://www.seniorsolutionsvt.org/event/brattleboro-senior-meal/2026-03-09/
LOCATION:Gibson-Aiken Center\, 207 Main Street\, Brattleboro\, VT\, 05301
CATEGORIES:Community Meals
END:VEVENT
END:VCALENDAR